BEGIN:VCALENDAR
VERSION:2.0
PRODID:-//Schauerheim.de - ECPv6.15.20//NONSGML v1.0//EN
CALSCALE:GREGORIAN
METHOD:PUBLISH
X-WR-CALNAME:Schauerheim.de
X-ORIGINAL-URL:https://www.schauerheim.de
X-WR-CALDESC:Veranstaltungen für Schauerheim.de
REFRESH-INTERVAL;VALUE=DURATION:PT1H
X-Robots-Tag:noindex
X-PUBLISHED-TTL:PT1H
BEGIN:VTIMEZONE
TZID:Europe/Berlin
BEGIN:DAYLIGHT
TZOFFSETFROM:+0100
TZOFFSETTO:+0200
TZNAME:CEST
DTSTART:20250330T010000
END:DAYLIGHT
BEGIN:STANDARD
TZOFFSETFROM:+0200
TZOFFSETTO:+0100
TZNAME:CET
DTSTART:20251026T010000
END:STANDARD
BEGIN:DAYLIGHT
TZOFFSETFROM:+0100
TZOFFSETTO:+0200
TZNAME:CEST
DTSTART:20260329T010000
END:DAYLIGHT
BEGIN:STANDARD
TZOFFSETFROM:+0200
TZOFFSETTO:+0100
TZNAME:CET
DTSTART:20261025T010000
END:STANDARD
BEGIN:DAYLIGHT
TZOFFSETFROM:+0100
TZOFFSETTO:+0200
TZNAME:CEST
DTSTART:20270328T010000
END:DAYLIGHT
BEGIN:STANDARD
TZOFFSETFROM:+0200
TZOFFSETTO:+0100
TZNAME:CET
DTSTART:20271031T010000
END:STANDARD
END:VTIMEZONE
BEGIN:VEVENT
DTSTART;TZID=Europe/Berlin:20261013T180000
DTEND;TZID=Europe/Berlin:20261013T200000
DTSTAMP:20260421T164732
CREATED:20251220T124647Z
LAST-MODIFIED:20251220T124647Z
UID:4667-1791914400-1791921600@www.schauerheim.de
SUMMARY:Kirchweih-Übung - FFW
DESCRIPTION:
URL:https://www.schauerheim.de/event/kirchweih-uebung-ffw-3/
LOCATION:Feuerwehrhaus
CATEGORIES:Feuerwehr
ATTACH;FMTTYPE=image/png:https://www.schauerheim.de/wp-content/uploads/2022/03/LogoFeuerwehrKalender_neu.png
END:VEVENT
BEGIN:VEVENT
DTSTART;VALUE=DATE:20261016
DTEND;VALUE=DATE:20261020
DTSTAMP:20260421T164732
CREATED:20251217T214056Z
LAST-MODIFIED:20251217T214056Z
UID:4634-1792108800-1792454399@www.schauerheim.de
SUMMARY:Kirchweih - FCS
DESCRIPTION:Konkrete Uhrzeit steht noch nicht fest. Weitere Details folgen.
URL:https://www.schauerheim.de/event/kirchweih-fcs-5/
LOCATION:Gemeindezentrum Saal\, Deutschland
CATEGORIES:FC Schauerheim
ATTACH;FMTTYPE=image/jpeg:https://www.schauerheim.de/wp-content/uploads/2021/10/Kirchweihfichte_1024.jpg
END:VEVENT
BEGIN:VEVENT
DTSTART;TZID=Europe/Berlin:20261023T190000
DTEND;TZID=Europe/Berlin:20261023T194500
DTSTAMP:20260421T164732
CREATED:20251217T214221Z
LAST-MODIFIED:20251217T214221Z
UID:4635-1792782000-1792784700@www.schauerheim.de
SUMMARY:Taize-Andacht - Ev. Kirchengemeinde
DESCRIPTION:Weitere Details folgen.
URL:https://www.schauerheim.de/event/taize-andacht-ev-kirchengemeinde-18/
LOCATION:Klosterkirche Birkenfeld
CATEGORIES:Kirche
ATTACH;FMTTYPE=image/jpeg:https://www.schauerheim.de/wp-content/uploads/2023/02/Klosterkirche.jpg
END:VEVENT
BEGIN:VEVENT
DTSTART;TZID=Europe/Berlin:20261030T190000
DTEND;TZID=Europe/Berlin:20261030T210000
DTSTAMP:20260421T164732
CREATED:20251220T124647Z
LAST-MODIFIED:20251220T124647Z
UID:4668-1793386800-1793394000@www.schauerheim.de
SUMMARY:Übung - FFW
DESCRIPTION:
URL:https://www.schauerheim.de/event/uebung-ffw-48/
LOCATION:Feuerwehrhaus
CATEGORIES:Feuerwehr
ATTACH;FMTTYPE=image/png:https://www.schauerheim.de/wp-content/uploads/2022/03/LogoFeuerwehrKalender_neu.png
END:VEVENT
BEGIN:VEVENT
DTSTART;VALUE=DATE:20261115
DTEND;VALUE=DATE:20261116
DTSTAMP:20260421T164732
CREATED:20251217T214222Z
LAST-MODIFIED:20251217T214222Z
UID:4636-1794700800-1794787199@www.schauerheim.de
SUMMARY:Volkstrauertag - MV
DESCRIPTION:Konkrete Uhrzeit steht noch nicht fest. Weitere Details folgen.
URL:https://www.schauerheim.de/event/volkstrauertag-mv-4/
CATEGORIES:Militärverein
ATTACH;FMTTYPE=image/png:https://www.schauerheim.de/wp-content/uploads/2022/03/LogoMilitaervereinKalender.png
END:VEVENT
BEGIN:VEVENT
DTSTART;TZID=Europe/Berlin:20261120T190000
DTEND;TZID=Europe/Berlin:20261120T210000
DTSTAMP:20260421T164732
CREATED:20251220T124647Z
LAST-MODIFIED:20251220T124647Z
UID:4669-1795201200-1795208400@www.schauerheim.de
SUMMARY:Übung - FFW
DESCRIPTION:
URL:https://www.schauerheim.de/event/uebung-ffw-49/
LOCATION:Feuerwehrhaus
CATEGORIES:Feuerwehr
ATTACH;FMTTYPE=image/png:https://www.schauerheim.de/wp-content/uploads/2022/03/LogoFeuerwehrKalender_neu.png
END:VEVENT
BEGIN:VEVENT
DTSTART;VALUE=DATE:20261124
DTEND;VALUE=DATE:20261125
DTSTAMP:20260421T164732
CREATED:20251217T214224Z
LAST-MODIFIED:20251217T214224Z
UID:4637-1795478400-1795564799@www.schauerheim.de
SUMMARY:Adventsbasteln - GBV
DESCRIPTION:Konkrete Uhrzeit steht noch nicht fest. Weitere Details folgen.
URL:https://www.schauerheim.de/event/adventsbasteln-gbv-4/
LOCATION:Gemeindezentrum Saal\, Deutschland
CATEGORIES:Gartenbauverein
ATTACH;FMTTYPE=image/png:https://www.schauerheim.de/wp-content/uploads/2022/03/GBVLogoKalender.png
END:VEVENT
BEGIN:VEVENT
DTSTART;VALUE=DATE:20261128
DTEND;VALUE=DATE:20261129
DTSTAMP:20260421T164732
CREATED:20251217T214225Z
LAST-MODIFIED:20251217T214225Z
UID:4638-1795824000-1795910399@www.schauerheim.de
SUMMARY:Weihnachtsfeier - GBV
DESCRIPTION:Konkrete Uhrzeit steht noch nicht fest. Weitere Details folgen.
URL:https://www.schauerheim.de/event/weihnachtsfeier-gbv-4/
LOCATION:Gemeindezentrum Saal\, Deutschland
CATEGORIES:Gartenbauverein
ATTACH;FMTTYPE=image/png:https://www.schauerheim.de/wp-content/uploads/2022/03/GBVLogoKalender.png
END:VEVENT
BEGIN:VEVENT
DTSTART;VALUE=DATE:20261129
DTEND;VALUE=DATE:20261130
DTSTAMP:20260421T164732
CREATED:20251217T214226Z
LAST-MODIFIED:20251217T214226Z
UID:4639-1795910400-1795996799@www.schauerheim.de
SUMMARY:Waldweihnacht
DESCRIPTION:Konkrete Uhrzeit steht noch nicht fest. Weitere Details folgen.
URL:https://www.schauerheim.de/event/waldweihnacht/
LOCATION:St. Katharinenkirche Schauerheim
CATEGORIES:Kirche
ATTACH;FMTTYPE=image/jpeg:https://www.schauerheim.de/wp-content/uploads/2022/02/StKatharinenkircheSchauerheim.jpg
END:VEVENT
BEGIN:VEVENT
DTSTART;TZID=Europe/Berlin:20261211T190000
DTEND;TZID=Europe/Berlin:20261211T210000
DTSTAMP:20260421T164732
CREATED:20251220T124703Z
LAST-MODIFIED:20251220T124703Z
UID:4670-1797015600-1797022800@www.schauerheim.de
SUMMARY:Übung - FFW
DESCRIPTION:
URL:https://www.schauerheim.de/event/uebung-ffw-50/
LOCATION:Feuerwehrhaus
CATEGORIES:Feuerwehr
ATTACH;FMTTYPE=image/png:https://www.schauerheim.de/wp-content/uploads/2022/03/LogoFeuerwehrKalender_neu.png
END:VEVENT
BEGIN:VEVENT
DTSTART;VALUE=DATE:20261219
DTEND;VALUE=DATE:20261220
DTSTAMP:20260421T164732
CREATED:20251217T214335Z
LAST-MODIFIED:20251217T214335Z
UID:4640-1797638400-1797724799@www.schauerheim.de
SUMMARY:Weihnachtsveranstaltung - MV
DESCRIPTION:Konkrete Uhrzeit steht noch nicht fest. Weitere Details folgen.
URL:https://www.schauerheim.de/event/weihnachtsveranstaltung-mv-2/
LOCATION:Gemeindezentrum
CATEGORIES:Militärverein
ATTACH;FMTTYPE=image/png:https://www.schauerheim.de/wp-content/uploads/2022/03/LogoMilitaervereinKalender.png
END:VEVENT
END:VCALENDAR