BEGIN:VCALENDAR
VERSION:2.0
PRODID:-//Schauerheim.de - ECPv6.15.20//NONSGML v1.0//EN
CALSCALE:GREGORIAN
METHOD:PUBLISH
X-WR-CALNAME:Schauerheim.de
X-ORIGINAL-URL:https://www.schauerheim.de
X-WR-CALDESC:Veranstaltungen für Schauerheim.de
REFRESH-INTERVAL;VALUE=DURATION:PT1H
X-Robots-Tag:noindex
X-PUBLISHED-TTL:PT1H
BEGIN:VTIMEZONE
TZID:Europe/Berlin
BEGIN:DAYLIGHT
TZOFFSETFROM:+0100
TZOFFSETTO:+0200
TZNAME:CEST
DTSTART:20210328T010000
END:DAYLIGHT
BEGIN:STANDARD
TZOFFSETFROM:+0200
TZOFFSETTO:+0100
TZNAME:CET
DTSTART:20211031T010000
END:STANDARD
BEGIN:DAYLIGHT
TZOFFSETFROM:+0100
TZOFFSETTO:+0200
TZNAME:CEST
DTSTART:20220327T010000
END:DAYLIGHT
BEGIN:STANDARD
TZOFFSETFROM:+0200
TZOFFSETTO:+0100
TZNAME:CET
DTSTART:20221030T010000
END:STANDARD
BEGIN:DAYLIGHT
TZOFFSETFROM:+0100
TZOFFSETTO:+0200
TZNAME:CEST
DTSTART:20230326T010000
END:DAYLIGHT
BEGIN:STANDARD
TZOFFSETFROM:+0200
TZOFFSETTO:+0100
TZNAME:CET
DTSTART:20231029T010000
END:STANDARD
END:VTIMEZONE
BEGIN:VEVENT
DTSTART;TZID=Europe/Berlin:20220104T090000
DTEND;TZID=Europe/Berlin:20220104T091500
DTSTAMP:20260425T222710
CREATED:20211230T205732Z
LAST-MODIFIED:20211230T205732Z
UID:1510-1641286800-1641287700@www.schauerheim.de
SUMMARY:Test der Feuerwehrsirene
DESCRIPTION:Am 04.01.2022 wird die Sirene in Schauerheim seit langer Zeit wieder einmal zu hören sein. Gegen 9 Uhr soll deren Funktion durch ein Auslösen durch die Leitstelle getestet werden\, sodass die neugegründete Feuerwehr im Einsatzfall auch alarmiert werden kann.
URL:https://www.schauerheim.de/event/test-der-feuerwehrsirene/
CATEGORIES:Feuerwehr
ATTACH;FMTTYPE=image/jpeg:https://www.schauerheim.de/wp-content/uploads/2021/09/FFWGeraetehaus_2.jpg
END:VEVENT
BEGIN:VEVENT
DTSTART;TZID=Europe/Berlin:20220107T180000
DTEND;TZID=Europe/Berlin:20220107T200000
DTSTAMP:20260425T222710
CREATED:20211017T205017Z
LAST-MODIFIED:20211211T153321Z
UID:1452-1641578400-1641585600@www.schauerheim.de
SUMMARY:Wahl des ersten und zweiten Kommandanten der FFW
DESCRIPTION:
URL:https://www.schauerheim.de/event/wahl-des-ersten-und-zweiten-kommandanten-der-ffw/
CATEGORIES:Feuerwehr
ATTACH;FMTTYPE=image/jpeg:https://www.schauerheim.de/wp-content/uploads/2021/09/FFWGeraetehaus_2.jpg
END:VEVENT
END:VCALENDAR