BEGIN:VCALENDAR
VERSION:2.0
PRODID:-//Schauerheim.de - ECPv6.15.20//NONSGML v1.0//EN
CALSCALE:GREGORIAN
METHOD:PUBLISH
X-ORIGINAL-URL:https://www.schauerheim.de
X-WR-CALDESC:Veranstaltungen für Schauerheim.de
REFRESH-INTERVAL;VALUE=DURATION:PT1H
X-Robots-Tag:noindex
X-PUBLISHED-TTL:PT1H
BEGIN:VTIMEZONE
TZID:Europe/Berlin
BEGIN:DAYLIGHT
TZOFFSETFROM:+0100
TZOFFSETTO:+0200
TZNAME:CEST
DTSTART:20210328T010000
END:DAYLIGHT
BEGIN:STANDARD
TZOFFSETFROM:+0200
TZOFFSETTO:+0100
TZNAME:CET
DTSTART:20211031T010000
END:STANDARD
BEGIN:DAYLIGHT
TZOFFSETFROM:+0100
TZOFFSETTO:+0200
TZNAME:CEST
DTSTART:20220327T010000
END:DAYLIGHT
BEGIN:STANDARD
TZOFFSETFROM:+0200
TZOFFSETTO:+0100
TZNAME:CET
DTSTART:20221030T010000
END:STANDARD
BEGIN:DAYLIGHT
TZOFFSETFROM:+0100
TZOFFSETTO:+0200
TZNAME:CEST
DTSTART:20230326T010000
END:DAYLIGHT
BEGIN:STANDARD
TZOFFSETFROM:+0200
TZOFFSETTO:+0100
TZNAME:CET
DTSTART:20231029T010000
END:STANDARD
END:VTIMEZONE
BEGIN:VEVENT
DTSTART;TZID=Europe/Berlin:20220304T180000
DTEND;TZID=Europe/Berlin:20220304T182000
DTSTAMP:20260425T191307
CREATED:20220302T162043Z
LAST-MODIFIED:20220302T162043Z
UID:1620-1646416800-1646418000@www.schauerheim.de
SUMMARY:Einladung Friedensgebet
DESCRIPTION:Einladung zum Friedensgebet 04.03.2022
URL:https://www.schauerheim.de/event/einladung-friedensgebet/
LOCATION:St. Katharinenkirche Schauerheim
CATEGORIES:Kirche
ATTACH;FMTTYPE=image/jpeg:https://www.schauerheim.de/wp-content/uploads/2022/02/StKatharinenkircheSchauerheim.jpg
END:VEVENT
BEGIN:VEVENT
DTSTART;TZID=Europe/Berlin:20220311T180000
DTEND;TZID=Europe/Berlin:20220311T182000
DTSTAMP:20260425T191307
CREATED:20220309T220400Z
LAST-MODIFIED:20220309T220400Z
UID:1786-1647021600-1647022800@www.schauerheim.de
SUMMARY:Friedensgebet - Ev. Kirchengemeinde
DESCRIPTION:Einladung zum Friedensgebet 11.03.2022
URL:https://www.schauerheim.de/event/friedensgebet-ev-kirchengemeinde/
LOCATION:St. Katharinenkirche Schauerheim
CATEGORIES:Kirche
ATTACH;FMTTYPE=image/jpeg:https://www.schauerheim.de/wp-content/uploads/2022/02/StKatharinenkircheSchauerheim.jpg
END:VEVENT
BEGIN:VEVENT
DTSTART;TZID=Europe/Berlin:20220313T100000
DTEND;TZID=Europe/Berlin:20220313T120000
DTSTAMP:20260425T191307
CREATED:20220308T204658Z
LAST-MODIFIED:20220308T204813Z
UID:1776-1647165600-1647172800@www.schauerheim.de
SUMMARY:Spendenaktion für ukrainische Flüchtlinge
DESCRIPTION:Spendenaufruf für ukrainische Flüchtlinge der FFW Schauerheim
URL:https://www.schauerheim.de/event/spendenaktion-fuer-ukrainische-fluechtlinge/
LOCATION:Feuerwehrhaus
CATEGORIES:Feuerwehr
ATTACH;FMTTYPE=image/png:https://www.schauerheim.de/wp-content/uploads/2022/03/LogoFeuerwehrKalender.png
END:VEVENT
BEGIN:VEVENT
DTSTART;TZID=Europe/Berlin:20220319T100000
DTEND;TZID=Europe/Berlin:20220319T140000
DTSTAMP:20260425T191307
CREATED:20220315T202201Z
LAST-MODIFIED:20220315T203449Z
UID:1830-1647684000-1647698400@www.schauerheim.de
SUMMARY:2. Spendenaktion für ukrainische Flüchtlinge
DESCRIPTION:
URL:https://www.schauerheim.de/event/spendenaktion-fuer-ukrainische-fluechtlinge-2/
LOCATION:Feuerwehrhaus
CATEGORIES:Feuerwehr
ATTACH;FMTTYPE=image/png:https://www.schauerheim.de/wp-content/uploads/2022/03/LogoFeuerwehrKalender.png
END:VEVENT
BEGIN:VEVENT
DTSTART;TZID=Europe/Berlin:20220319T180000
DTEND;TZID=Europe/Berlin:20220319T220000
DTSTAMP:20260425T191307
CREATED:20220306T202209Z
LAST-MODIFIED:20220311T205652Z
UID:1640-1647712800-1647727200@www.schauerheim.de
SUMMARY:Jahreshauptversammlung Militärverein
DESCRIPTION:
URL:https://www.schauerheim.de/event/test/
LOCATION:Gemeindezentrum Saal\, Deutschland
CATEGORIES:Militärverein
ATTACH;FMTTYPE=image/png:https://www.schauerheim.de/wp-content/uploads/2022/03/LogoMilitaervereinKalender.png
END:VEVENT
BEGIN:VEVENT
DTSTART;TZID=Europe/Berlin:20220325T150000
DTEND;TZID=Europe/Berlin:20220325T170000
DTSTAMP:20260425T191307
CREATED:20220306T203725Z
LAST-MODIFIED:20220307T203252Z
UID:1652-1648220400-1648227600@www.schauerheim.de
SUMMARY:Schauerheim wird putzt - Gartenbauverein
DESCRIPTION:Müllsammelaktion mit Kindern im Rahmen von „Neustadt wird putzt“: \nEinladung zu „Schauera wird putzt“ am 25.03.2022
URL:https://www.schauerheim.de/event/schauerheim-wird-putzt/
CATEGORIES:Gartenbauverein
ATTACH;FMTTYPE=image/png:https://www.schauerheim.de/wp-content/uploads/2022/03/GBVLogoKalender.png
END:VEVENT
BEGIN:VEVENT
DTSTART;VALUE=DATE:20220326
DTEND;VALUE=DATE:20220327
DTSTAMP:20260425T191307
CREATED:20220306T203837Z
LAST-MODIFIED:20220306T205258Z
UID:1655-1648252800-1648339199@www.schauerheim.de
SUMMARY:Schlachten - Militärverein
DESCRIPTION:
URL:https://www.schauerheim.de/event/schlachten/
LOCATION:Gemeindezentrum Vereinszimmer
CATEGORIES:Militärverein
ATTACH;FMTTYPE=image/png:https://www.schauerheim.de/wp-content/uploads/2022/03/LogoMilitaervereinKalender.png
END:VEVENT
END:VCALENDAR