BEGIN:VCALENDAR
VERSION:2.0
PRODID:-//Schauerheim.de - ECPv6.15.20//NONSGML v1.0//EN
CALSCALE:GREGORIAN
METHOD:PUBLISH
X-WR-CALNAME:Schauerheim.de
X-ORIGINAL-URL:https://www.schauerheim.de
X-WR-CALDESC:Veranstaltungen für Schauerheim.de
REFRESH-INTERVAL;VALUE=DURATION:PT1H
X-Robots-Tag:noindex
X-PUBLISHED-TTL:PT1H
BEGIN:VTIMEZONE
TZID:Europe/Berlin
BEGIN:DAYLIGHT
TZOFFSETFROM:+0100
TZOFFSETTO:+0200
TZNAME:CEST
DTSTART:20210328T010000
END:DAYLIGHT
BEGIN:STANDARD
TZOFFSETFROM:+0200
TZOFFSETTO:+0100
TZNAME:CET
DTSTART:20211031T010000
END:STANDARD
BEGIN:DAYLIGHT
TZOFFSETFROM:+0100
TZOFFSETTO:+0200
TZNAME:CEST
DTSTART:20220327T010000
END:DAYLIGHT
BEGIN:STANDARD
TZOFFSETFROM:+0200
TZOFFSETTO:+0100
TZNAME:CET
DTSTART:20221030T010000
END:STANDARD
BEGIN:DAYLIGHT
TZOFFSETFROM:+0100
TZOFFSETTO:+0200
TZNAME:CEST
DTSTART:20230326T010000
END:DAYLIGHT
BEGIN:STANDARD
TZOFFSETFROM:+0200
TZOFFSETTO:+0100
TZNAME:CET
DTSTART:20231029T010000
END:STANDARD
END:VTIMEZONE
BEGIN:VEVENT
DTSTART;VALUE=DATE:20220402
DTEND;VALUE=DATE:20220403
DTSTAMP:20260425T172639
CREATED:20220306T203959Z
LAST-MODIFIED:20220306T205312Z
UID:1659-1648857600-1648943999@www.schauerheim.de
SUMMARY:Wurstessen - Militärverein
DESCRIPTION:
URL:https://www.schauerheim.de/event/wurstessen/
LOCATION:Gemeindezentrum Vereinszimmer
CATEGORIES:Militärverein
ATTACH;FMTTYPE=image/png:https://www.schauerheim.de/wp-content/uploads/2022/03/LogoMilitaervereinKalender.png
END:VEVENT
BEGIN:VEVENT
DTSTART;TZID=Europe/Berlin:20220402T090000
DTEND;TZID=Europe/Berlin:20220402T130000
DTSTAMP:20260425T172639
CREATED:20220306T203929Z
LAST-MODIFIED:20220307T203406Z
UID:1657-1648890000-1648904400@www.schauerheim.de
SUMMARY:Baumschnittkurs mit Theorie und Praxis – Gartenbauverein
DESCRIPTION:Einladung Baumschnittkurs am 02.04.2022
URL:https://www.schauerheim.de/event/baumschnittkurs/
LOCATION:Gemeindezentrum Saal\, Deutschland
CATEGORIES:Gartenbauverein
ATTACH;FMTTYPE=image/png:https://www.schauerheim.de/wp-content/uploads/2022/03/GBVLogoKalender.png
END:VEVENT
BEGIN:VEVENT
DTSTART;TZID=Europe/Berlin:20220406T190000
DTEND;TZID=Europe/Berlin:20220406T210000
DTSTAMP:20260425T172639
CREATED:20220306T204046Z
LAST-MODIFIED:20220402T145410Z
UID:1661-1649271600-1649278800@www.schauerheim.de
SUMMARY:Jahreshauptversammlung – Dorfverein
DESCRIPTION:Tagesordnung: \n\nEröffnung und Begrüßung\nBericht des Vorstandes\nKassenbericht 2019\, 2020 und 2021\nEntlastung der Vorstandschaft und des Kassiers\nNeuwahlen\nVerschiedenes\, Wünsche und Anträge
URL:https://www.schauerheim.de/event/jahreshauptversammlung/
LOCATION:Gemeindezentrum Saal\, Deutschland
CATEGORIES:Dorfverein
ATTACH;FMTTYPE=image/png:https://www.schauerheim.de/wp-content/uploads/2021/11/DorfvereinLogo.png
END:VEVENT
BEGIN:VEVENT
DTSTART;TZID=Europe/Berlin:20220425T190000
DTEND;TZID=Europe/Berlin:20220425T210000
DTSTAMP:20260425T172639
CREATED:20220306T204128Z
LAST-MODIFIED:20220421T055626Z
UID:1663-1650913200-1650920400@www.schauerheim.de
SUMMARY:Jahreshauptversammlung – Gartenbauverein
DESCRIPTION:Einladung Jahreshauptversammlung 2022
URL:https://www.schauerheim.de/event/jahreshauptversammlung-2/
LOCATION:Gemeindezentrum Saal\, Deutschland
CATEGORIES:Gartenbauverein
ATTACH;FMTTYPE=image/png:https://www.schauerheim.de/wp-content/uploads/2022/03/GBVLogoKalender.png
END:VEVENT
BEGIN:VEVENT
DTSTART;TZID=Europe/Berlin:20220430T160000
DTEND;TZID=Europe/Berlin:20220430T210000
DTSTAMP:20260425T172639
CREATED:20220311T202818Z
LAST-MODIFIED:20220421T053729Z
UID:1789-1651334400-1651352400@www.schauerheim.de
SUMMARY:Grillfest - Feuerwehr
DESCRIPTION:Grillfest 30.04.2022
URL:https://www.schauerheim.de/event/grillfest-feuerwehr/
LOCATION:Feuerwehrhaus
CATEGORIES:Feuerwehr
ATTACH;FMTTYPE=image/png:https://www.schauerheim.de/wp-content/uploads/2022/03/LogoFeuerwehrKalender_neu.png
END:VEVENT
END:VCALENDAR