BEGIN:VCALENDAR
VERSION:2.0
PRODID:-//Schauerheim.de - ECPv6.15.20//NONSGML v1.0//EN
CALSCALE:GREGORIAN
METHOD:PUBLISH
X-WR-CALNAME:Schauerheim.de
X-ORIGINAL-URL:https://www.schauerheim.de
X-WR-CALDESC:Veranstaltungen für Schauerheim.de
REFRESH-INTERVAL;VALUE=DURATION:PT1H
X-Robots-Tag:noindex
X-PUBLISHED-TTL:PT1H
BEGIN:VTIMEZONE
TZID:Europe/Berlin
BEGIN:DAYLIGHT
TZOFFSETFROM:+0100
TZOFFSETTO:+0200
TZNAME:CEST
DTSTART:20220327T010000
END:DAYLIGHT
BEGIN:STANDARD
TZOFFSETFROM:+0200
TZOFFSETTO:+0100
TZNAME:CET
DTSTART:20221030T010000
END:STANDARD
BEGIN:DAYLIGHT
TZOFFSETFROM:+0100
TZOFFSETTO:+0200
TZNAME:CEST
DTSTART:20230326T010000
END:DAYLIGHT
BEGIN:STANDARD
TZOFFSETFROM:+0200
TZOFFSETTO:+0100
TZNAME:CET
DTSTART:20231029T010000
END:STANDARD
BEGIN:DAYLIGHT
TZOFFSETFROM:+0100
TZOFFSETTO:+0200
TZNAME:CEST
DTSTART:20240331T010000
END:DAYLIGHT
BEGIN:STANDARD
TZOFFSETFROM:+0200
TZOFFSETTO:+0100
TZNAME:CET
DTSTART:20241027T010000
END:STANDARD
END:VTIMEZONE
BEGIN:VEVENT
DTSTART;TZID=Europe/Berlin:20230120T190000
DTEND;TZID=Europe/Berlin:20230120T210000
DTSTAMP:20260425T010447
CREATED:20220829T210247Z
LAST-MODIFIED:20221217T231631Z
UID:2194-1674241200-1674248400@www.schauerheim.de
SUMMARY:Jahreshauptversammlung - FFW
DESCRIPTION:
URL:https://www.schauerheim.de/event/jahreshauptversammlung-ffw/
LOCATION:Gemeindezentrum Saal\, Deutschland
CATEGORIES:Feuerwehr
ATTACH;FMTTYPE=image/png:https://www.schauerheim.de/wp-content/uploads/2022/03/LogoFeuerwehrKalender_neu.png
END:VEVENT
BEGIN:VEVENT
DTSTART;TZID=Europe/Berlin:20230124T131500
DTEND;TZID=Europe/Berlin:20230124T134500
DTSTAMP:20260425T010447
CREATED:20220824T205931Z
LAST-MODIFIED:20220824T205931Z
UID:2177-1674566100-1674567900@www.schauerheim.de
SUMMARY:Bücherbus kommt
DESCRIPTION:Termine Bücherbus 2022
URL:https://www.schauerheim.de/event/buecherbus-kommt-6/
LOCATION:Kindergarten „kleine Welt“
CATEGORIES:Ortssprecher
ATTACH;FMTTYPE=image/png:https://www.schauerheim.de/wp-content/uploads/2022/08/202223_Buecherbus.png
END:VEVENT
BEGIN:VEVENT
DTSTART;TZID=Europe/Berlin:20230127T190000
DTEND;TZID=Europe/Berlin:20230127T210000
DTSTAMP:20260425T010447
CREATED:20230121T100907Z
LAST-MODIFIED:20230121T100907Z
UID:2534-1674846000-1674853200@www.schauerheim.de
SUMMARY:UVV & Übung - FFW
DESCRIPTION:
URL:https://www.schauerheim.de/event/uvv-uebung-ffw/
LOCATION:Feuerwehrhaus
CATEGORIES:Feuerwehr
ATTACH;FMTTYPE=image/png:https://www.schauerheim.de/wp-content/uploads/2022/03/LogoFeuerwehrKalender_neu.png
END:VEVENT
END:VCALENDAR