BEGIN:VCALENDAR
VERSION:2.0
PRODID:-//Schauerheim.de - ECPv6.15.20//NONSGML v1.0//EN
CALSCALE:GREGORIAN
METHOD:PUBLISH
X-ORIGINAL-URL:https://www.schauerheim.de
X-WR-CALDESC:Veranstaltungen für Schauerheim.de
REFRESH-INTERVAL;VALUE=DURATION:PT1H
X-Robots-Tag:noindex
X-PUBLISHED-TTL:PT1H
BEGIN:VTIMEZONE
TZID:Europe/Berlin
BEGIN:DAYLIGHT
TZOFFSETFROM:+0100
TZOFFSETTO:+0200
TZNAME:CEST
DTSTART:20220327T010000
END:DAYLIGHT
BEGIN:STANDARD
TZOFFSETFROM:+0200
TZOFFSETTO:+0100
TZNAME:CET
DTSTART:20221030T010000
END:STANDARD
BEGIN:DAYLIGHT
TZOFFSETFROM:+0100
TZOFFSETTO:+0200
TZNAME:CEST
DTSTART:20230326T010000
END:DAYLIGHT
BEGIN:STANDARD
TZOFFSETFROM:+0200
TZOFFSETTO:+0100
TZNAME:CET
DTSTART:20231029T010000
END:STANDARD
BEGIN:DAYLIGHT
TZOFFSETFROM:+0100
TZOFFSETTO:+0200
TZNAME:CEST
DTSTART:20240331T010000
END:DAYLIGHT
BEGIN:STANDARD
TZOFFSETFROM:+0200
TZOFFSETTO:+0100
TZNAME:CET
DTSTART:20241027T010000
END:STANDARD
END:VTIMEZONE
BEGIN:VEVENT
DTSTART;TZID=Europe/Berlin:20230214T131500
DTEND;TZID=Europe/Berlin:20230214T134500
DTSTAMP:20260424T232728
CREATED:20220824T210036Z
LAST-MODIFIED:20220824T210036Z
UID:2179-1676380500-1676382300@www.schauerheim.de
SUMMARY:Bücherbus kommt
DESCRIPTION:Termine Bücherbus 2022
URL:https://www.schauerheim.de/event/buecherbus-kommt-7/
LOCATION:Kindergarten „kleine Welt“
CATEGORIES:Ortssprecher
ATTACH;FMTTYPE=image/png:https://www.schauerheim.de/wp-content/uploads/2022/08/202223_Buecherbus.png
END:VEVENT
BEGIN:VEVENT
DTSTART;TZID=Europe/Berlin:20230217T190000
DTEND;TZID=Europe/Berlin:20230217T200000
DTSTAMP:20260424T232728
CREATED:20230201T181412Z
LAST-MODIFIED:20230201T220511Z
UID:2571-1676660400-1676664000@www.schauerheim.de
SUMMARY:Taize-Andacht - Ev. Kirchengemeinde
DESCRIPTION:Taize-Andacht Klosterkirche Birkenfeld
URL:https://www.schauerheim.de/event/taize-andacht-ev-kirchengemeinde/
LOCATION:Klosterkirche Birkenfeld
CATEGORIES:Kirche
ATTACH;FMTTYPE=image/jpeg:https://www.schauerheim.de/wp-content/uploads/2023/02/Klosterkirche.jpg
END:VEVENT
BEGIN:VEVENT
DTSTART;TZID=Europe/Berlin:20230217T190000
DTEND;TZID=Europe/Berlin:20230217T210000
DTSTAMP:20260424T232728
CREATED:20230121T101012Z
LAST-MODIFIED:20230121T101012Z
UID:2536-1676660400-1676667600@www.schauerheim.de
SUMMARY:Übung - FFW
DESCRIPTION:
URL:https://www.schauerheim.de/event/uebung-ffw/
LOCATION:Feuerwehrhaus
CATEGORIES:Feuerwehr
ATTACH;FMTTYPE=image/png:https://www.schauerheim.de/wp-content/uploads/2022/03/LogoFeuerwehrKalender_neu.png
END:VEVENT
BEGIN:VEVENT
DTSTART;TZID=Europe/Berlin:20230227T190000
DTEND;TZID=Europe/Berlin:20230227T210000
DTSTAMP:20260424T232728
CREATED:20230201T181621Z
LAST-MODIFIED:20230211T091637Z
UID:2573-1677524400-1677531600@www.schauerheim.de
SUMMARY:Jahreshauptversammlung - GBV
DESCRIPTION:
URL:https://www.schauerheim.de/event/jahreshauptversammlung-gbv/
LOCATION:Gemeindezentrum Saal\, Deutschland
CATEGORIES:Gartenbauverein
ATTACH;FMTTYPE=image/png:https://www.schauerheim.de/wp-content/uploads/2022/03/GBVLogoKalender.png
END:VEVENT
END:VCALENDAR