BEGIN:VCALENDAR
VERSION:2.0
PRODID:-//Schauerheim.de - ECPv6.15.20//NONSGML v1.0//EN
CALSCALE:GREGORIAN
METHOD:PUBLISH
X-ORIGINAL-URL:https://www.schauerheim.de
X-WR-CALDESC:Veranstaltungen für Schauerheim.de
REFRESH-INTERVAL;VALUE=DURATION:PT1H
X-Robots-Tag:noindex
X-PUBLISHED-TTL:PT1H
BEGIN:VTIMEZONE
TZID:Europe/Berlin
BEGIN:DAYLIGHT
TZOFFSETFROM:+0100
TZOFFSETTO:+0200
TZNAME:CEST
DTSTART:20220327T010000
END:DAYLIGHT
BEGIN:STANDARD
TZOFFSETFROM:+0200
TZOFFSETTO:+0100
TZNAME:CET
DTSTART:20221030T010000
END:STANDARD
BEGIN:DAYLIGHT
TZOFFSETFROM:+0100
TZOFFSETTO:+0200
TZNAME:CEST
DTSTART:20230326T010000
END:DAYLIGHT
BEGIN:STANDARD
TZOFFSETFROM:+0200
TZOFFSETTO:+0100
TZNAME:CET
DTSTART:20231029T010000
END:STANDARD
BEGIN:DAYLIGHT
TZOFFSETFROM:+0100
TZOFFSETTO:+0200
TZNAME:CEST
DTSTART:20240331T010000
END:DAYLIGHT
BEGIN:STANDARD
TZOFFSETFROM:+0200
TZOFFSETTO:+0100
TZNAME:CET
DTSTART:20241027T010000
END:STANDARD
END:VTIMEZONE
BEGIN:VEVENT
DTSTART;VALUE=DATE:20230401
DTEND;VALUE=DATE:20230402
DTSTAMP:20260424T193758
CREATED:20230201T182713Z
LAST-MODIFIED:20230211T092625Z
UID:2589-1680307200-1680393599@www.schauerheim.de
SUMMARY:Busfahrt Adler Moden - GBV
DESCRIPTION:Tagesausflug nach Haibach zu den Adler Moden anschließend Schifffahrt in Frankfurt und Einkehr zum Abendessen \nEinladung mit Anmeldung folgt.
URL:https://www.schauerheim.de/event/busfahrt-adlermoden-gbv/
CATEGORIES:Gartenbauverein
ATTACH;FMTTYPE=image/png:https://www.schauerheim.de/wp-content/uploads/2022/03/GBVLogoKalender.png
END:VEVENT
BEGIN:VEVENT
DTSTART;TZID=Europe/Berlin:20230402T093000
DTEND;TZID=Europe/Berlin:20230402T103000
DTSTAMP:20260424T193758
CREATED:20230201T182838Z
LAST-MODIFIED:20230201T182838Z
UID:2591-1680427800-1680431400@www.schauerheim.de
SUMMARY:Konfirmation - Ev. Kirchengemeinde
DESCRIPTION:
URL:https://www.schauerheim.de/event/konfirmation-ev-kirchengemeinde/
LOCATION:St. Katharinenkirche Schauerheim
CATEGORIES:Kirche
ATTACH;FMTTYPE=image/jpeg:https://www.schauerheim.de/wp-content/uploads/2022/02/StKatharinenkircheSchauerheim.jpg
END:VEVENT
BEGIN:VEVENT
DTSTART;TZID=Europe/Berlin:20230406T190000
DTEND;TZID=Europe/Berlin:20230406T200000
DTSTAMP:20260424T193758
CREATED:20230201T182949Z
LAST-MODIFIED:20230201T220720Z
UID:2593-1680807600-1680811200@www.schauerheim.de
SUMMARY:Taize-Andacht - Ev. Kirchengemeinde
DESCRIPTION:Weitere Details folgen.
URL:https://www.schauerheim.de/event/taize-andacht-ev-kirchengemeinde-3/
LOCATION:Klosterkirche Birkenfeld
CATEGORIES:Kirche
ATTACH;FMTTYPE=image/jpeg:https://www.schauerheim.de/wp-content/uploads/2023/02/Klosterkirche.jpg
END:VEVENT
BEGIN:VEVENT
DTSTART;TZID=Europe/Berlin:20230410T160000
DTEND;TZID=Europe/Berlin:20230410T173000
DTSTAMP:20260424T193758
CREATED:20230201T183122Z
LAST-MODIFIED:20230404T075616Z
UID:2595-1681142400-1681147800@www.schauerheim.de
SUMMARY:Osterkonzert - Posaunenchor
DESCRIPTION:
URL:https://www.schauerheim.de/event/konzert-posaunenchor/
LOCATION:Klosterkirche Birkenfeld
CATEGORIES:Sonstige
ATTACH;FMTTYPE=image/jpeg:https://www.schauerheim.de/wp-content/uploads/2023/02/Klosterkirche.jpg
END:VEVENT
BEGIN:VEVENT
DTSTART;TZID=Europe/Berlin:20230418T131500
DTEND;TZID=Europe/Berlin:20230418T134500
DTSTAMP:20260424T193758
CREATED:20230201T212708Z
LAST-MODIFIED:20230201T212708Z
UID:2644-1681823700-1681825500@www.schauerheim.de
SUMMARY:Bücherbus kommt
DESCRIPTION:Termine Bücherbus 2023
URL:https://www.schauerheim.de/event/buecherbus-kommt-9/
LOCATION:Kindergarten „kleine Welt“
CATEGORIES:Ortssprecher
ATTACH;FMTTYPE=image/png:https://www.schauerheim.de/wp-content/uploads/2022/08/202223_Buecherbus.png
END:VEVENT
BEGIN:VEVENT
DTSTART;TZID=Europe/Berlin:20230421T190000
DTEND;TZID=Europe/Berlin:20230421T210000
DTSTAMP:20260424T193758
CREATED:20230121T101210Z
LAST-MODIFIED:20230309T205806Z
UID:2540-1682103600-1682110800@www.schauerheim.de
SUMMARY:Übung - FFW
DESCRIPTION:
URL:https://www.schauerheim.de/event/uebung-ffw-3/
LOCATION:Feuerwehrhaus
CATEGORIES:Feuerwehr
ATTACH;FMTTYPE=image/png:https://www.schauerheim.de/wp-content/uploads/2022/03/LogoFeuerwehrKalender_neu.png
END:VEVENT
BEGIN:VEVENT
DTSTART;TZID=Europe/Berlin:20230421T200000
DTEND;TZID=Europe/Berlin:20230421T230000
DTSTAMP:20260424T193758
CREATED:20230201T183317Z
LAST-MODIFIED:20230224T221142Z
UID:2597-1682107200-1682118000@www.schauerheim.de
SUMMARY:Theater „Currywurst und Kaviar“ – FCS
DESCRIPTION:
URL:https://www.schauerheim.de/event/theater-fcs/
LOCATION:Gemeindezentrum Saal\, Deutschland
CATEGORIES:FC Schauerheim
ATTACH;FMTTYPE=image/jpeg:https://www.schauerheim.de/wp-content/uploads/2023/02/2023_FlyerTheaterLogo.jpg
END:VEVENT
BEGIN:VEVENT
DTSTART;TZID=Europe/Berlin:20230422T200000
DTEND;TZID=Europe/Berlin:20230422T230000
DTSTAMP:20260424T193758
CREATED:20230201T214939Z
LAST-MODIFIED:20230224T221119Z
UID:2663-1682193600-1682204400@www.schauerheim.de
SUMMARY:Theater „Currywurst und Kaviar“ – FCS
DESCRIPTION:
URL:https://www.schauerheim.de/event/theater-currywurst-und-kaviar-fcs-2/
LOCATION:Gemeindezentrum Saal\, Deutschland
CATEGORIES:FC Schauerheim
ATTACH;FMTTYPE=image/jpeg:https://www.schauerheim.de/wp-content/uploads/2023/02/2023_FlyerTheaterLogo.jpg
END:VEVENT
BEGIN:VEVENT
DTSTART;TZID=Europe/Berlin:20230423T180000
DTEND;TZID=Europe/Berlin:20230423T210000
DTSTAMP:20260424T193758
CREATED:20230201T215015Z
LAST-MODIFIED:20230224T221048Z
UID:2665-1682272800-1682283600@www.schauerheim.de
SUMMARY:Theater „Currywurst und Kaviar“ – FCS
DESCRIPTION:
URL:https://www.schauerheim.de/event/theater-currywurst-und-kaviar-fcs-3/
LOCATION:Gemeindezentrum Saal\, Deutschland
CATEGORIES:FC Schauerheim
ATTACH;FMTTYPE=image/jpeg:https://www.schauerheim.de/wp-content/uploads/2023/02/2023_FlyerTheaterLogo.jpg
END:VEVENT
BEGIN:VEVENT
DTSTART;TZID=Europe/Berlin:20230429T170000
DTEND;TZID=Europe/Berlin:20230429T235900
DTSTAMP:20260424T193758
CREATED:20230121T100042Z
LAST-MODIFIED:20230407T084632Z
UID:2530-1682787600-1682812740@www.schauerheim.de
SUMMARY:Grillfest - FFW
DESCRIPTION:Grillfest FFW 2023\n 
URL:https://www.schauerheim.de/event/grillfest-ffw/
LOCATION:Feuerwehrhaus
CATEGORIES:Feuerwehr
ATTACH;FMTTYPE=image/png:https://www.schauerheim.de/wp-content/uploads/2022/03/LogoFeuerwehrKalender_neu.png
END:VEVENT
END:VCALENDAR