BEGIN:VCALENDAR
VERSION:2.0
PRODID:-//Schauerheim.de - ECPv6.15.20//NONSGML v1.0//EN
CALSCALE:GREGORIAN
METHOD:PUBLISH
X-WR-CALNAME:Schauerheim.de
X-ORIGINAL-URL:https://www.schauerheim.de
X-WR-CALDESC:Veranstaltungen für Schauerheim.de
REFRESH-INTERVAL;VALUE=DURATION:PT1H
X-Robots-Tag:noindex
X-PUBLISHED-TTL:PT1H
BEGIN:VTIMEZONE
TZID:Europe/Berlin
BEGIN:DAYLIGHT
TZOFFSETFROM:+0100
TZOFFSETTO:+0200
TZNAME:CEST
DTSTART:20220327T010000
END:DAYLIGHT
BEGIN:STANDARD
TZOFFSETFROM:+0200
TZOFFSETTO:+0100
TZNAME:CET
DTSTART:20221030T010000
END:STANDARD
BEGIN:DAYLIGHT
TZOFFSETFROM:+0100
TZOFFSETTO:+0200
TZNAME:CEST
DTSTART:20230326T010000
END:DAYLIGHT
BEGIN:STANDARD
TZOFFSETFROM:+0200
TZOFFSETTO:+0100
TZNAME:CET
DTSTART:20231029T010000
END:STANDARD
BEGIN:DAYLIGHT
TZOFFSETFROM:+0100
TZOFFSETTO:+0200
TZNAME:CEST
DTSTART:20240331T010000
END:DAYLIGHT
BEGIN:STANDARD
TZOFFSETFROM:+0200
TZOFFSETTO:+0100
TZNAME:CET
DTSTART:20241027T010000
END:STANDARD
END:VTIMEZONE
BEGIN:VEVENT
DTSTART;TZID=Europe/Berlin:20230701T180000
DTEND;TZID=Europe/Berlin:20230701T235900
DTSTAMP:20260424T142335
CREATED:20230121T100210Z
LAST-MODIFIED:20230626T193110Z
UID:2532-1688234400-1688255940@www.schauerheim.de
SUMMARY:Sonnwendfeuer - FFW
DESCRIPTION: 
URL:https://www.schauerheim.de/event/sonnwendfeuer-ffw-2/
LOCATION:Sportplatz
CATEGORIES:Feuerwehr
ATTACH;FMTTYPE=image/jpeg:https://www.schauerheim.de/wp-content/uploads/2022/05/Sonnwendfeuer.jpg
END:VEVENT
BEGIN:VEVENT
DTSTART;TZID=Europe/Berlin:20230704T131500
DTEND;TZID=Europe/Berlin:20230704T134500
DTSTAMP:20260424T142335
CREATED:20230201T212951Z
LAST-MODIFIED:20230201T212951Z
UID:2650-1688476500-1688478300@www.schauerheim.de
SUMMARY:Bücherbus kommt
DESCRIPTION:Termine Bücherbus 2023
URL:https://www.schauerheim.de/event/buecherbus-kommt-12/
LOCATION:Kindergarten „kleine Welt“
CATEGORIES:Ortssprecher
ATTACH;FMTTYPE=image/png:https://www.schauerheim.de/wp-content/uploads/2022/08/202223_Buecherbus.png
END:VEVENT
BEGIN:VEVENT
DTSTART;TZID=Europe/Berlin:20230708T173000
DTEND;TZID=Europe/Berlin:20230708T220000
DTSTAMP:20260424T142335
CREATED:20230201T184152Z
LAST-MODIFIED:20230702T205309Z
UID:2611-1688837400-1688853600@www.schauerheim.de
SUMMARY:Sommerfest - GBV
DESCRIPTION:
URL:https://www.schauerheim.de/event/sommerfest-gbv/
LOCATION:Gemeindezentrum Saal\, Deutschland
CATEGORIES:Gartenbauverein
ATTACH;FMTTYPE=image/png:https://www.schauerheim.de/wp-content/uploads/2022/03/GBVLogoKalender.png
END:VEVENT
BEGIN:VEVENT
DTSTART;TZID=Europe/Berlin:20230714T190000
DTEND;TZID=Europe/Berlin:20230714T210000
DTSTAMP:20260424T142335
CREATED:20230121T101713Z
LAST-MODIFIED:20230121T101713Z
UID:2550-1689361200-1689368400@www.schauerheim.de
SUMMARY:Übung - FFW
DESCRIPTION:
URL:https://www.schauerheim.de/event/uebung-ffw-6/
LOCATION:Feuerwehrhaus
CATEGORIES:Feuerwehr
ATTACH;FMTTYPE=image/png:https://www.schauerheim.de/wp-content/uploads/2022/03/LogoFeuerwehrKalender_neu.png
END:VEVENT
BEGIN:VEVENT
DTSTART;TZID=Europe/Berlin:20230722T180000
DTEND;TZID=Europe/Berlin:20230722T235900
DTSTAMP:20260424T142335
CREATED:20230201T184255Z
LAST-MODIFIED:20230716T210606Z
UID:2613-1690048800-1690070340@www.schauerheim.de
SUMMARY:Weinfest - Ev. Kirchengemeinde
DESCRIPTION:Weinfest Kirche 2023
URL:https://www.schauerheim.de/event/weinfest-ev-kirchengemeinde-2/
LOCATION:St. Katharinenkirche Schauerheim
CATEGORIES:Kirche
ATTACH;FMTTYPE=image/jpeg:https://www.schauerheim.de/wp-content/uploads/2022/02/StKatharinenkircheSchauerheim.jpg
END:VEVENT
BEGIN:VEVENT
DTSTART;TZID=Europe/Berlin:20230725T131500
DTEND;TZID=Europe/Berlin:20230725T134500
DTSTAMP:20260424T142335
CREATED:20230201T213056Z
LAST-MODIFIED:20230201T213056Z
UID:2652-1690290900-1690292700@www.schauerheim.de
SUMMARY:Bücherbus kommt
DESCRIPTION:Termine Bücherbus 2023
URL:https://www.schauerheim.de/event/buecherbus-kommt-13/
LOCATION:Kindergarten „kleine Welt“
CATEGORIES:Ortssprecher
ATTACH;FMTTYPE=image/png:https://www.schauerheim.de/wp-content/uploads/2022/08/202223_Buecherbus.png
END:VEVENT
END:VCALENDAR