BEGIN:VCALENDAR
VERSION:2.0
PRODID:-//Schauerheim.de - ECPv6.15.20//NONSGML v1.0//EN
CALSCALE:GREGORIAN
METHOD:PUBLISH
X-ORIGINAL-URL:https://www.schauerheim.de
X-WR-CALDESC:Veranstaltungen für Schauerheim.de
REFRESH-INTERVAL;VALUE=DURATION:PT1H
X-Robots-Tag:noindex
X-PUBLISHED-TTL:PT1H
BEGIN:VTIMEZONE
TZID:Europe/Berlin
BEGIN:DAYLIGHT
TZOFFSETFROM:+0100
TZOFFSETTO:+0200
TZNAME:CEST
DTSTART:20220327T010000
END:DAYLIGHT
BEGIN:STANDARD
TZOFFSETFROM:+0200
TZOFFSETTO:+0100
TZNAME:CET
DTSTART:20221030T010000
END:STANDARD
BEGIN:DAYLIGHT
TZOFFSETFROM:+0100
TZOFFSETTO:+0200
TZNAME:CEST
DTSTART:20230326T010000
END:DAYLIGHT
BEGIN:STANDARD
TZOFFSETFROM:+0200
TZOFFSETTO:+0100
TZNAME:CET
DTSTART:20231029T010000
END:STANDARD
BEGIN:DAYLIGHT
TZOFFSETFROM:+0100
TZOFFSETTO:+0200
TZNAME:CEST
DTSTART:20240331T010000
END:DAYLIGHT
BEGIN:STANDARD
TZOFFSETFROM:+0200
TZOFFSETTO:+0100
TZNAME:CET
DTSTART:20241027T010000
END:STANDARD
END:VTIMEZONE
BEGIN:VEVENT
DTSTART;TZID=Europe/Berlin:20230805T180000
DTEND;TZID=Europe/Berlin:20230805T233000
DTSTAMP:20260424T122120
CREATED:20230201T184412Z
LAST-MODIFIED:20230730T212308Z
UID:2615-1691258400-1691278200@www.schauerheim.de
SUMMARY:Sommerfest - MV
DESCRIPTION:
URL:https://www.schauerheim.de/event/sommerfest-mv/
CATEGORIES:Militärverein
ATTACH;FMTTYPE=image/png:https://www.schauerheim.de/wp-content/uploads/2022/03/LogoMilitaervereinKalender.png
END:VEVENT
BEGIN:VEVENT
DTSTART;TZID=Europe/Berlin:20230825T190000
DTEND;TZID=Europe/Berlin:20230825T210000
DTSTAMP:20260424T122120
CREATED:20230121T101808Z
LAST-MODIFIED:20230309T204541Z
UID:2552-1692990000-1692997200@www.schauerheim.de
SUMMARY:Übung - FFW
DESCRIPTION:
URL:https://www.schauerheim.de/event/uebung-ffw-7/
LOCATION:Feuerwehrhaus
CATEGORIES:Feuerwehr
ATTACH;FMTTYPE=image/png:https://www.schauerheim.de/wp-content/uploads/2022/03/LogoFeuerwehrKalender_neu.png
END:VEVENT
END:VCALENDAR