BEGIN:VCALENDAR
VERSION:2.0
PRODID:-//Schauerheim.de - ECPv6.15.20//NONSGML v1.0//EN
CALSCALE:GREGORIAN
METHOD:PUBLISH
X-WR-CALNAME:Schauerheim.de
X-ORIGINAL-URL:https://www.schauerheim.de
X-WR-CALDESC:Veranstaltungen für Schauerheim.de
REFRESH-INTERVAL;VALUE=DURATION:PT1H
X-Robots-Tag:noindex
X-PUBLISHED-TTL:PT1H
BEGIN:VTIMEZONE
TZID:Europe/Berlin
BEGIN:DAYLIGHT
TZOFFSETFROM:+0100
TZOFFSETTO:+0200
TZNAME:CEST
DTSTART:20220327T010000
END:DAYLIGHT
BEGIN:STANDARD
TZOFFSETFROM:+0200
TZOFFSETTO:+0100
TZNAME:CET
DTSTART:20221030T010000
END:STANDARD
BEGIN:DAYLIGHT
TZOFFSETFROM:+0100
TZOFFSETTO:+0200
TZNAME:CEST
DTSTART:20230326T010000
END:DAYLIGHT
BEGIN:STANDARD
TZOFFSETFROM:+0200
TZOFFSETTO:+0100
TZNAME:CET
DTSTART:20231029T010000
END:STANDARD
BEGIN:DAYLIGHT
TZOFFSETFROM:+0100
TZOFFSETTO:+0200
TZNAME:CEST
DTSTART:20240331T010000
END:DAYLIGHT
BEGIN:STANDARD
TZOFFSETFROM:+0200
TZOFFSETTO:+0100
TZNAME:CET
DTSTART:20241027T010000
END:STANDARD
END:VTIMEZONE
BEGIN:VEVENT
DTSTART;TZID=Europe/Berlin:20231202T143000
DTEND;TZID=Europe/Berlin:20231202T180000
DTSTAMP:20260422T130607
CREATED:20230201T185239Z
LAST-MODIFIED:20231127T215731Z
UID:2629-1701527400-1701540000@www.schauerheim.de
SUMMARY:Weihnachtsfeier - GBV
DESCRIPTION:Weihnachtsfeier mit Blumenschmuckausgabe
URL:https://www.schauerheim.de/event/weihnachtsfeier-gbv/
LOCATION:Gemeindezentrum Saal\, Deutschland
CATEGORIES:Gartenbauverein
ATTACH;FMTTYPE=image/png:https://www.schauerheim.de/wp-content/uploads/2022/03/GBVLogoKalender.png
END:VEVENT
BEGIN:VEVENT
DTSTART;VALUE=DATE:20231203
DTEND;VALUE=DATE:20231204
DTSTAMP:20260422T130607
CREATED:20230201T185405Z
LAST-MODIFIED:20230201T220555Z
UID:2631-1701561600-1701647999@www.schauerheim.de
SUMMARY:Weihnachtsmarkt Birkenfeld - Ev. Kirchengemeinde
DESCRIPTION:Weihnachtsmarkt in Birkenfeld mit Konzert des kl. Chor \nWeitere Details folgen.
URL:https://www.schauerheim.de/event/weihnachtsmarkt-birkenfeld-ev-kirchengemeinde/
LOCATION:Klosterkirche Birkenfeld
CATEGORIES:Kirche
ATTACH;FMTTYPE=image/jpeg:https://www.schauerheim.de/wp-content/uploads/2023/02/Klosterkirche.jpg
END:VEVENT
BEGIN:VEVENT
DTSTART;TZID=Europe/Berlin:20231215T190000
DTEND;TZID=Europe/Berlin:20231215T210000
DTSTAMP:20260422T130607
CREATED:20230121T102152Z
LAST-MODIFIED:20230309T204259Z
UID:2560-1702666800-1702674000@www.schauerheim.de
SUMMARY:Übung - FFW
DESCRIPTION:
URL:https://www.schauerheim.de/event/uebung-ffw-10/
LOCATION:Feuerwehrhaus
CATEGORIES:Feuerwehr
ATTACH;FMTTYPE=image/png:https://www.schauerheim.de/wp-content/uploads/2022/03/LogoFeuerwehrKalender_neu.png
END:VEVENT
BEGIN:VEVENT
DTSTART;TZID=Europe/Berlin:20231216T170000
DTEND;TZID=Europe/Berlin:20231216T210000
DTSTAMP:20260422T130607
CREATED:20230201T185506Z
LAST-MODIFIED:20231209T121317Z
UID:2633-1702746000-1702760400@www.schauerheim.de
SUMMARY:Weihnachtsfeier - MV
DESCRIPTION:
URL:https://www.schauerheim.de/event/winterveranstaltung-mv/
LOCATION:Gemeindezentrum Saal\, Deutschland
CATEGORIES:Militärverein
ATTACH;FMTTYPE=image/jpeg:https://www.schauerheim.de/wp-content/uploads/2023/02/20231216_WeihnachtsfeierMV.jpg
END:VEVENT
END:VCALENDAR