BEGIN:VCALENDAR
VERSION:2.0
PRODID:-//Schauerheim.de - ECPv6.15.20//NONSGML v1.0//EN
CALSCALE:GREGORIAN
METHOD:PUBLISH
X-WR-CALNAME:Schauerheim.de
X-ORIGINAL-URL:https://www.schauerheim.de
X-WR-CALDESC:Veranstaltungen für Schauerheim.de
REFRESH-INTERVAL;VALUE=DURATION:PT1H
X-Robots-Tag:noindex
X-PUBLISHED-TTL:PT1H
BEGIN:VTIMEZONE
TZID:Europe/Berlin
BEGIN:DAYLIGHT
TZOFFSETFROM:+0100
TZOFFSETTO:+0200
TZNAME:CEST
DTSTART:20230326T010000
END:DAYLIGHT
BEGIN:STANDARD
TZOFFSETFROM:+0200
TZOFFSETTO:+0100
TZNAME:CET
DTSTART:20231029T010000
END:STANDARD
BEGIN:DAYLIGHT
TZOFFSETFROM:+0100
TZOFFSETTO:+0200
TZNAME:CEST
DTSTART:20240331T010000
END:DAYLIGHT
BEGIN:STANDARD
TZOFFSETFROM:+0200
TZOFFSETTO:+0100
TZNAME:CET
DTSTART:20241027T010000
END:STANDARD
BEGIN:DAYLIGHT
TZOFFSETFROM:+0100
TZOFFSETTO:+0200
TZNAME:CEST
DTSTART:20250330T010000
END:DAYLIGHT
BEGIN:STANDARD
TZOFFSETFROM:+0200
TZOFFSETTO:+0100
TZNAME:CET
DTSTART:20251026T010000
END:STANDARD
END:VTIMEZONE
BEGIN:VEVENT
DTSTART;VALUE=DATE:20240301
DTEND;VALUE=DATE:20240302
DTSTAMP:20260422T074236
CREATED:20240118T222738Z
LAST-MODIFIED:20240118T222738Z
UID:3466-1709251200-1709337599@www.schauerheim.de
SUMMARY:Weltgebetstag - Ev. Kirchengemeinde
DESCRIPTION:Konkrete Uhrzeit steht noch nicht fest. Weitere Details folgen.
URL:https://www.schauerheim.de/event/weltgebetstag-ev-kirchengemeinde/
LOCATION:St. Katharinenkirche Schauerheim
CATEGORIES:Kirche
ATTACH;FMTTYPE=image/jpeg:https://www.schauerheim.de/wp-content/uploads/2022/02/StKatharinenkircheSchauerheim.jpg
END:VEVENT
BEGIN:VEVENT
DTSTART;VALUE=DATE:20240302
DTEND;VALUE=DATE:20240303
DTSTAMP:20260422T074236
CREATED:20240119T193118Z
LAST-MODIFIED:20240119T193118Z
UID:3497-1709337600-1709423999@www.schauerheim.de
SUMMARY:Jahreshauptversammlung - MV
DESCRIPTION:Konkrete Uhrzeit steht noch nicht fest. Weitere Details folgen.
URL:https://www.schauerheim.de/event/jahreshauptversammlung-mv-2/
LOCATION:Gemeindezentrum Saal\, Deutschland
CATEGORIES:Militärverein
ATTACH;FMTTYPE=image/png:https://www.schauerheim.de/wp-content/uploads/2022/03/LogoMilitaervereinKalender.png
END:VEVENT
BEGIN:VEVENT
DTSTART;TZID=Europe/Berlin:20240307T180000
DTEND;TZID=Europe/Berlin:20240307T200000
DTSTAMP:20260422T074236
CREATED:20240119T191047Z
LAST-MODIFIED:20240223T154212Z
UID:3482-1709834400-1709841600@www.schauerheim.de
SUMMARY:Töpferkurs - GBV
DESCRIPTION:
URL:https://www.schauerheim.de/event/toepferkurs-gbv/
LOCATION:Gemeindezentrum Saal\, Deutschland
CATEGORIES:Gartenbauverein
ATTACH;FMTTYPE=image/png:https://www.schauerheim.de/wp-content/uploads/2022/03/GBVLogoKalender.png
END:VEVENT
BEGIN:VEVENT
DTSTART;TZID=Europe/Berlin:20240313T190000
DTEND;TZID=Europe/Berlin:20240313T210000
DTSTAMP:20260422T074236
CREATED:20240229T164233Z
LAST-MODIFIED:20240229T164233Z
UID:3625-1710356400-1710363600@www.schauerheim.de
SUMMARY:Jahreshauptversammlung - DV
DESCRIPTION:
URL:https://www.schauerheim.de/event/jahreshauptversammlung-dv-2/
LOCATION:Gemeindezentrum Saal\, Deutschland
CATEGORIES:Dorfverein
ATTACH;FMTTYPE=image/png:https://www.schauerheim.de/wp-content/uploads/2021/11/DorfvereinLogo.png
END:VEVENT
BEGIN:VEVENT
DTSTART;TZID=Europe/Berlin:20240315T190000
DTEND;TZID=Europe/Berlin:20240315T203000
DTSTAMP:20260422T074236
CREATED:20231209T121933Z
LAST-MODIFIED:20231209T121933Z
UID:3343-1710529200-1710534600@www.schauerheim.de
SUMMARY:Übung - FFW
DESCRIPTION:
URL:https://www.schauerheim.de/event/uebung-ffw-13/
LOCATION:Feuerwehrhaus
CATEGORIES:Feuerwehr
ATTACH;FMTTYPE=image/png:https://www.schauerheim.de/wp-content/uploads/2022/03/LogoFeuerwehrKalender_neu.png
END:VEVENT
BEGIN:VEVENT
DTSTART;TZID=Europe/Berlin:20240319T180000
DTEND;TZID=Europe/Berlin:20240319T200000
DTSTAMP:20260422T074236
CREATED:20240216T162825Z
LAST-MODIFIED:20240310T160936Z
UID:3582-1710871200-1710878400@www.schauerheim.de
SUMMARY:Herzensangelegenheit - Einführung Defibrillator
DESCRIPTION:
URL:https://www.schauerheim.de/event/3582/
LOCATION:Gemeindezentrum Saal\, Deutschland
CATEGORIES:Sonstige
ATTACH;FMTTYPE=image/jpeg:https://www.schauerheim.de/wp-content/uploads/2021/04/Defibrillator_20210326_1024-3.jpg
END:VEVENT
BEGIN:VEVENT
DTSTART;VALUE=DATE:20240324
DTEND;VALUE=DATE:20240325
DTSTAMP:20260422T074236
CREATED:20240119T191108Z
LAST-MODIFIED:20240119T193626Z
UID:3491-1711238400-1711324799@www.schauerheim.de
SUMMARY:Konfirmation - Ev. Kirchengemeinde
DESCRIPTION:Konkrete Uhrzeit steht noch nicht fest. Weitere Details folgen.
URL:https://www.schauerheim.de/event/konfirmation-ev-kirchengemeinde-2/
LOCATION:St. Katharinenkirche Schauerheim
CATEGORIES:Kirche
ATTACH;FMTTYPE=image/jpeg:https://www.schauerheim.de/wp-content/uploads/2022/02/StKatharinenkircheSchauerheim.jpg
END:VEVENT
BEGIN:VEVENT
DTSTART;TZID=Europe/Berlin:20240328T190000
DTEND;TZID=Europe/Berlin:20240328T194500
DTSTAMP:20260422T074236
CREATED:20240118T222736Z
LAST-MODIFIED:20240118T222736Z
UID:3464-1711652400-1711655100@www.schauerheim.de
SUMMARY:Taize-Andacht - Ev. Kirchengemeinde
DESCRIPTION:
URL:https://www.schauerheim.de/event/taize-andacht-ev-kirchengemeinde-6/
LOCATION:Klosterkirche Birkenfeld
CATEGORIES:Kirche
ATTACH;FMTTYPE=image/jpeg:https://www.schauerheim.de/wp-content/uploads/2023/02/Klosterkirche.jpg
END:VEVENT
END:VCALENDAR