BEGIN:VCALENDAR
VERSION:2.0
PRODID:-//Schauerheim.de - ECPv6.15.20//NONSGML v1.0//EN
CALSCALE:GREGORIAN
METHOD:PUBLISH
X-WR-CALNAME:Schauerheim.de
X-ORIGINAL-URL:https://www.schauerheim.de
X-WR-CALDESC:Veranstaltungen für Schauerheim.de
REFRESH-INTERVAL;VALUE=DURATION:PT1H
X-Robots-Tag:noindex
X-PUBLISHED-TTL:PT1H
BEGIN:VTIMEZONE
TZID:Europe/Berlin
BEGIN:DAYLIGHT
TZOFFSETFROM:+0100
TZOFFSETTO:+0200
TZNAME:CEST
DTSTART:20230326T010000
END:DAYLIGHT
BEGIN:STANDARD
TZOFFSETFROM:+0200
TZOFFSETTO:+0100
TZNAME:CET
DTSTART:20231029T010000
END:STANDARD
BEGIN:DAYLIGHT
TZOFFSETFROM:+0100
TZOFFSETTO:+0200
TZNAME:CEST
DTSTART:20240331T010000
END:DAYLIGHT
BEGIN:STANDARD
TZOFFSETFROM:+0200
TZOFFSETTO:+0100
TZNAME:CET
DTSTART:20241027T010000
END:STANDARD
BEGIN:DAYLIGHT
TZOFFSETFROM:+0100
TZOFFSETTO:+0200
TZNAME:CEST
DTSTART:20250330T010000
END:DAYLIGHT
BEGIN:STANDARD
TZOFFSETFROM:+0200
TZOFFSETTO:+0100
TZNAME:CET
DTSTART:20251026T010000
END:STANDARD
END:VTIMEZONE
BEGIN:VEVENT
DTSTART;TZID=Europe/Berlin:20240704T190000
DTEND;TZID=Europe/Berlin:20240704T203000
DTSTAMP:20260422T002921
CREATED:20231209T122613Z
LAST-MODIFIED:20240702T203220Z
UID:3359-1720119600-1720125000@www.schauerheim.de
SUMMARY:Übung - FFW
DESCRIPTION:
URL:https://www.schauerheim.de/event/uebung-ffw-17/
LOCATION:Feuerwehrhaus
CATEGORIES:Feuerwehr
ATTACH;FMTTYPE=image/png:https://www.schauerheim.de/wp-content/uploads/2022/03/LogoFeuerwehrKalender_neu.png
END:VEVENT
BEGIN:VEVENT
DTSTART;TZID=Europe/Berlin:20240712T160000
DTEND;TZID=Europe/Berlin:20240712T180000
DTSTAMP:20260422T002921
CREATED:20240601T120129Z
LAST-MODIFIED:20240624T200951Z
UID:3794-1720800000-1720807200@www.schauerheim.de
SUMMARY:Einweihung Multifunktionsfeld
DESCRIPTION:
URL:https://www.schauerheim.de/event/einweihung-multifunkstionfeld/
LOCATION:Sportplatz
CATEGORIES:Ortssprecher
ATTACH;FMTTYPE=image/jpeg:https://www.schauerheim.de/wp-content/uploads/2024/06/20240525_Multifunktionsfeld.jpg
END:VEVENT
BEGIN:VEVENT
DTSTART;TZID=Europe/Berlin:20240713T173000
DTEND;TZID=Europe/Berlin:20240713T235900
DTSTAMP:20260422T002921
CREATED:20240119T191053Z
LAST-MODIFIED:20240707T211255Z
UID:3487-1720891800-1720915140@www.schauerheim.de
SUMMARY:Sommerfest - GBV
DESCRIPTION: 
URL:https://www.schauerheim.de/event/sommerfest-gbv-2/
LOCATION:Gemeindezentrum
CATEGORIES:Gartenbauverein
ATTACH;FMTTYPE=image/png:https://www.schauerheim.de/wp-content/uploads/2022/03/GBVLogoKalender.png
END:VEVENT
BEGIN:VEVENT
DTSTART;TZID=Europe/Berlin:20240719T190000
DTEND;TZID=Europe/Berlin:20240719T203000
DTSTAMP:20260422T002921
CREATED:20231209T122647Z
LAST-MODIFIED:20240716T215253Z
UID:3361-1721415600-1721421000@www.schauerheim.de
SUMMARY:Übung - FFW
DESCRIPTION:
URL:https://www.schauerheim.de/event/uebung-ffw-18/
LOCATION:Feuerwehrhaus
CATEGORIES:Feuerwehr
ATTACH;FMTTYPE=image/png:https://www.schauerheim.de/wp-content/uploads/2022/03/LogoFeuerwehrKalender_neu.png
END:VEVENT
BEGIN:VEVENT
DTSTART;TZID=Europe/Berlin:20240721T100000
DTEND;TZID=Europe/Berlin:20240721T120000
DTSTAMP:20260422T002921
CREATED:20240118T222743Z
LAST-MODIFIED:20240721T093033Z
UID:3470-1721556000-1721563200@www.schauerheim.de
SUMMARY:Regionengottesdienst - Ev. Kirchengemeinde
DESCRIPTION: 
URL:https://www.schauerheim.de/event/regionengottesdienst-ev-kirchengemeinde/
LOCATION:St. Katharinenkirche Schauerheim
CATEGORIES:Kirche
ATTACH;FMTTYPE=image/jpeg:https://www.schauerheim.de/wp-content/uploads/2022/02/StKatharinenkircheSchauerheim.jpg
END:VEVENT
BEGIN:VEVENT
DTSTART;TZID=Europe/Berlin:20240727T180000
DTEND;TZID=Europe/Berlin:20240727T235900
DTSTAMP:20260422T002921
CREATED:20240118T222744Z
LAST-MODIFIED:20240721T092207Z
UID:3471-1722103200-1722124740@www.schauerheim.de
SUMMARY:Weinfest - Ev. Kirchengemeinde
DESCRIPTION:
URL:https://www.schauerheim.de/event/weinfest-ev-kirchengemeinde-3/
LOCATION:St. Katharinenkirche Schauerheim
CATEGORIES:Kirche
ATTACH;FMTTYPE=image/jpeg:https://www.schauerheim.de/wp-content/uploads/2022/02/StKatharinenkircheSchauerheim.jpg
END:VEVENT
END:VCALENDAR