BEGIN:VCALENDAR
VERSION:2.0
PRODID:-//Schauerheim.de - ECPv6.15.20//NONSGML v1.0//EN
CALSCALE:GREGORIAN
METHOD:PUBLISH
X-ORIGINAL-URL:https://www.schauerheim.de
X-WR-CALDESC:Veranstaltungen für Schauerheim.de
REFRESH-INTERVAL;VALUE=DURATION:PT1H
X-Robots-Tag:noindex
X-PUBLISHED-TTL:PT1H
BEGIN:VTIMEZONE
TZID:Europe/Berlin
BEGIN:DAYLIGHT
TZOFFSETFROM:+0100
TZOFFSETTO:+0200
TZNAME:CEST
DTSTART:20230326T010000
END:DAYLIGHT
BEGIN:STANDARD
TZOFFSETFROM:+0200
TZOFFSETTO:+0100
TZNAME:CET
DTSTART:20231029T010000
END:STANDARD
BEGIN:DAYLIGHT
TZOFFSETFROM:+0100
TZOFFSETTO:+0200
TZNAME:CEST
DTSTART:20240331T010000
END:DAYLIGHT
BEGIN:STANDARD
TZOFFSETFROM:+0200
TZOFFSETTO:+0100
TZNAME:CET
DTSTART:20241027T010000
END:STANDARD
BEGIN:DAYLIGHT
TZOFFSETFROM:+0100
TZOFFSETTO:+0200
TZNAME:CEST
DTSTART:20250330T010000
END:DAYLIGHT
BEGIN:STANDARD
TZOFFSETFROM:+0200
TZOFFSETTO:+0100
TZNAME:CET
DTSTART:20251026T010000
END:STANDARD
END:VTIMEZONE
BEGIN:VEVENT
DTSTART;VALUE=DATE:20241006
DTEND;VALUE=DATE:20241007
DTSTAMP:20260421T191425
CREATED:20240118T222755Z
LAST-MODIFIED:20240118T222755Z
UID:3472-1728172800-1728259199@www.schauerheim.de
SUMMARY:Erntedankfest - Ev. Kirchengemeinde
DESCRIPTION:Konkrete Uhrzeit steht noch nicht fest. Weitere Details folgen.
URL:https://www.schauerheim.de/event/erntedankfest-ev-kirchengemeinde-2/
LOCATION:St. Katharinenkirche Schauerheim
CATEGORIES:Kirche
ATTACH;FMTTYPE=image/jpeg:https://www.schauerheim.de/wp-content/uploads/2022/02/StKatharinenkircheSchauerheim.jpg
END:VEVENT
BEGIN:VEVENT
DTSTART;VALUE=DATE:20241017
DTEND;VALUE=DATE:20241022
DTSTAMP:20260421T191425
CREATED:20240119T193139Z
LAST-MODIFIED:20240909T194222Z
UID:3507-1729123200-1729555199@www.schauerheim.de
SUMMARY:Kirchweih - FCS
DESCRIPTION:
URL:https://www.schauerheim.de/event/kirchweih-fcs-3/
LOCATION:Gemeindezentrum Saal\, Deutschland
CATEGORIES:FC Schauerheim
ATTACH;FMTTYPE=image/jpeg:https://www.schauerheim.de/wp-content/uploads/2024/01/2024_Flyer_Kerwa.jpg
END:VEVENT
BEGIN:VEVENT
DTSTART;TZID=Europe/Berlin:20241017T180000
DTEND;TZID=Europe/Berlin:20241017T193000
DTSTAMP:20260421T191425
CREATED:20231209T122907Z
LAST-MODIFIED:20231209T122907Z
UID:3367-1729188000-1729193400@www.schauerheim.de
SUMMARY:Kirchweihübung - FFW
DESCRIPTION:Kirchweih-Übung mit Unternesselbach
URL:https://www.schauerheim.de/event/kirchweihuebung-ffw/
LOCATION:Feuerwehrhaus
CATEGORIES:Feuerwehr
ATTACH;FMTTYPE=image/png:https://www.schauerheim.de/wp-content/uploads/2022/03/LogoFeuerwehrKalender_neu.png
END:VEVENT
END:VCALENDAR