BEGIN:VCALENDAR
VERSION:2.0
PRODID:-//Schauerheim.de - ECPv6.15.20//NONSGML v1.0//EN
CALSCALE:GREGORIAN
METHOD:PUBLISH
X-ORIGINAL-URL:https://www.schauerheim.de
X-WR-CALDESC:Veranstaltungen für Schauerheim.de
REFRESH-INTERVAL;VALUE=DURATION:PT1H
X-Robots-Tag:noindex
X-PUBLISHED-TTL:PT1H
BEGIN:VTIMEZONE
TZID:Europe/Berlin
BEGIN:DAYLIGHT
TZOFFSETFROM:+0100
TZOFFSETTO:+0200
TZNAME:CEST
DTSTART:20230326T010000
END:DAYLIGHT
BEGIN:STANDARD
TZOFFSETFROM:+0200
TZOFFSETTO:+0100
TZNAME:CET
DTSTART:20231029T010000
END:STANDARD
BEGIN:DAYLIGHT
TZOFFSETFROM:+0100
TZOFFSETTO:+0200
TZNAME:CEST
DTSTART:20240331T010000
END:DAYLIGHT
BEGIN:STANDARD
TZOFFSETFROM:+0200
TZOFFSETTO:+0100
TZNAME:CET
DTSTART:20241027T010000
END:STANDARD
BEGIN:DAYLIGHT
TZOFFSETFROM:+0100
TZOFFSETTO:+0200
TZNAME:CEST
DTSTART:20250330T010000
END:DAYLIGHT
BEGIN:STANDARD
TZOFFSETFROM:+0200
TZOFFSETTO:+0100
TZNAME:CET
DTSTART:20251026T010000
END:STANDARD
END:VTIMEZONE
BEGIN:VEVENT
DTSTART;TZID=Europe/Berlin:20241115T190000
DTEND;TZID=Europe/Berlin:20241115T203000
DTSTAMP:20260421T172759
CREATED:20231209T122951Z
LAST-MODIFIED:20231209T122951Z
UID:3369-1731697200-1731702600@www.schauerheim.de
SUMMARY:Übung - FFW
DESCRIPTION:
URL:https://www.schauerheim.de/event/uebung-ffw-21/
LOCATION:Feuerwehrhaus
CATEGORIES:Feuerwehr
ATTACH;FMTTYPE=image/png:https://www.schauerheim.de/wp-content/uploads/2022/03/LogoFeuerwehrKalender_neu.png
END:VEVENT
BEGIN:VEVENT
DTSTART;VALUE=DATE:20241117
DTEND;VALUE=DATE:20241118
DTSTAMP:20260421T172759
CREATED:20240119T193125Z
LAST-MODIFIED:20240119T193125Z
UID:3503-1731801600-1731887999@www.schauerheim.de
SUMMARY:Volkstrauertag - MV
DESCRIPTION:Konkrete Uhrzeit steht noch nicht fest. Weitere Details folgen.
URL:https://www.schauerheim.de/event/volkstrauertag-mv-2/
CATEGORIES:Militärverein
ATTACH;FMTTYPE=image/png:https://www.schauerheim.de/wp-content/uploads/2022/03/LogoMilitaervereinKalender.png
END:VEVENT
BEGIN:VEVENT
DTSTART;TZID=Europe/Berlin:20241120T190000
DTEND;TZID=Europe/Berlin:20241120T194500
DTSTAMP:20260421T172759
CREATED:20240118T222737Z
LAST-MODIFIED:20240118T222737Z
UID:3465-1732129200-1732131900@www.schauerheim.de
SUMMARY:Taize-Andacht - Ev. Kirchengemeinde
DESCRIPTION:
URL:https://www.schauerheim.de/event/taize-andacht-ev-kirchengemeinde-7/
LOCATION:Klosterkirche Birkenfeld
CATEGORIES:Kirche
ATTACH;FMTTYPE=image/jpeg:https://www.schauerheim.de/wp-content/uploads/2023/02/Klosterkirche.jpg
END:VEVENT
BEGIN:VEVENT
DTSTART;TZID=Europe/Berlin:20241126T190000
DTEND;TZID=Europe/Berlin:20241126T220000
DTSTAMP:20260421T172759
CREATED:20240119T191055Z
LAST-MODIFIED:20241115T160208Z
UID:3489-1732647600-1732658400@www.schauerheim.de
SUMMARY:Adventsbasteln - GBV
DESCRIPTION:
URL:https://www.schauerheim.de/event/adventsbasteln-gbv-2/
LOCATION:Gemeindezentrum Saal\, Deutschland
CATEGORIES:Gartenbauverein
ATTACH;FMTTYPE=image/png:https://www.schauerheim.de/wp-content/uploads/2022/03/GBVLogoKalender.png
END:VEVENT
BEGIN:VEVENT
DTSTART;TZID=Europe/Berlin:20241130T143000
DTEND;TZID=Europe/Berlin:20241130T190000
DTSTAMP:20260421T172759
CREATED:20240119T191107Z
LAST-MODIFIED:20241123T180112Z
UID:3490-1732977000-1732993200@www.schauerheim.de
SUMMARY:Weihnachtsfeier - GBV
DESCRIPTION: 
URL:https://www.schauerheim.de/event/weihnachtsfeier-gbv-2/
LOCATION:Gemeindezentrum Saal\, Deutschland
CATEGORIES:Gartenbauverein
ATTACH;FMTTYPE=image/png:https://www.schauerheim.de/wp-content/uploads/2022/03/GBVLogoKalender.png
END:VEVENT
END:VCALENDAR