BEGIN:VCALENDAR
VERSION:2.0
PRODID:-//Schauerheim.de - ECPv6.15.20//NONSGML v1.0//EN
CALSCALE:GREGORIAN
METHOD:PUBLISH
X-WR-CALNAME:Schauerheim.de
X-ORIGINAL-URL:https://www.schauerheim.de
X-WR-CALDESC:Veranstaltungen für Schauerheim.de
REFRESH-INTERVAL;VALUE=DURATION:PT1H
X-Robots-Tag:noindex
X-PUBLISHED-TTL:PT1H
BEGIN:VTIMEZONE
TZID:Europe/Berlin
BEGIN:DAYLIGHT
TZOFFSETFROM:+0100
TZOFFSETTO:+0200
TZNAME:CEST
DTSTART:20230326T010000
END:DAYLIGHT
BEGIN:STANDARD
TZOFFSETFROM:+0200
TZOFFSETTO:+0100
TZNAME:CET
DTSTART:20231029T010000
END:STANDARD
BEGIN:DAYLIGHT
TZOFFSETFROM:+0100
TZOFFSETTO:+0200
TZNAME:CEST
DTSTART:20240331T010000
END:DAYLIGHT
BEGIN:STANDARD
TZOFFSETFROM:+0200
TZOFFSETTO:+0100
TZNAME:CET
DTSTART:20241027T010000
END:STANDARD
BEGIN:DAYLIGHT
TZOFFSETFROM:+0100
TZOFFSETTO:+0200
TZNAME:CEST
DTSTART:20250330T010000
END:DAYLIGHT
BEGIN:STANDARD
TZOFFSETFROM:+0200
TZOFFSETTO:+0100
TZNAME:CET
DTSTART:20251026T010000
END:STANDARD
END:VTIMEZONE
BEGIN:VEVENT
DTSTART;TZID=Europe/Berlin:20241201T180000
DTEND;TZID=Europe/Berlin:20241201T220000
DTSTAMP:20260421T153850
CREATED:20240118T222756Z
LAST-MODIFIED:20241125T195541Z
UID:3473-1733076000-1733090400@www.schauerheim.de
SUMMARY:Waldweihnacht - Ev. Kirchengemeinde
DESCRIPTION:
URL:https://www.schauerheim.de/event/waldweihnacht-ev-kirchengemeinde/
CATEGORIES:Kirche
ATTACH;FMTTYPE=image/jpeg:https://www.schauerheim.de/wp-content/uploads/2022/02/StKatharinenkircheSchauerheim.jpg
END:VEVENT
BEGIN:VEVENT
DTSTART;TZID=Europe/Berlin:20241207T100000
DTEND;TZID=Europe/Berlin:20241207T110000
DTSTAMP:20260421T153850
CREATED:20241201T205333Z
LAST-MODIFIED:20241201T205402Z
UID:3961-1733565600-1733569200@www.schauerheim.de
SUMMARY:Überprüfung der Feuerlöscher
DESCRIPTION:
URL:https://www.schauerheim.de/event/ueberpruefung-der-feuerloescher-3/
LOCATION:Firma Bauereiß
CATEGORIES:Ortssprecher
ATTACH;FMTTYPE=image/jpeg:https://www.schauerheim.de/wp-content/uploads/2024/12/20241207_FeuerloescherPruefung.jpg
END:VEVENT
BEGIN:VEVENT
DTSTART;TZID=Europe/Berlin:20241213T190000
DTEND;TZID=Europe/Berlin:20241213T203000
DTSTAMP:20260421T153850
CREATED:20231209T123026Z
LAST-MODIFIED:20231209T123026Z
UID:3371-1734116400-1734121800@www.schauerheim.de
SUMMARY:Übung - FFW
DESCRIPTION:
URL:https://www.schauerheim.de/event/uebung-ffw-22/
LOCATION:Feuerwehrhaus
CATEGORIES:Feuerwehr
ATTACH;FMTTYPE=image/png:https://www.schauerheim.de/wp-content/uploads/2022/03/LogoFeuerwehrKalender_neu.png
END:VEVENT
BEGIN:VEVENT
DTSTART;TZID=Europe/Berlin:20241214T170000
DTEND;TZID=Europe/Berlin:20241214T235900
DTSTAMP:20260421T153850
CREATED:20240119T193126Z
LAST-MODIFIED:20241212T222443Z
UID:3504-1734195600-1734220740@www.schauerheim.de
SUMMARY:Winterveranstaltung - MV
DESCRIPTION:
URL:https://www.schauerheim.de/event/winterveranstaltung-mv-2/
LOCATION:Gemeindezentrum
CATEGORIES:Militärverein
ATTACH;FMTTYPE=image/png:https://www.schauerheim.de/wp-content/uploads/2022/03/LogoMilitaervereinKalender.png
END:VEVENT
END:VCALENDAR