BEGIN:VCALENDAR
VERSION:2.0
PRODID:-//Schauerheim.de - ECPv6.15.20//NONSGML v1.0//EN
CALSCALE:GREGORIAN
METHOD:PUBLISH
X-ORIGINAL-URL:https://www.schauerheim.de
X-WR-CALDESC:Veranstaltungen für Schauerheim.de
REFRESH-INTERVAL;VALUE=DURATION:PT1H
X-Robots-Tag:noindex
X-PUBLISHED-TTL:PT1H
BEGIN:VTIMEZONE
TZID:Europe/Berlin
BEGIN:DAYLIGHT
TZOFFSETFROM:+0100
TZOFFSETTO:+0200
TZNAME:CEST
DTSTART:20240331T010000
END:DAYLIGHT
BEGIN:STANDARD
TZOFFSETFROM:+0200
TZOFFSETTO:+0100
TZNAME:CET
DTSTART:20241027T010000
END:STANDARD
BEGIN:DAYLIGHT
TZOFFSETFROM:+0100
TZOFFSETTO:+0200
TZNAME:CEST
DTSTART:20250330T010000
END:DAYLIGHT
BEGIN:STANDARD
TZOFFSETFROM:+0200
TZOFFSETTO:+0100
TZNAME:CET
DTSTART:20251026T010000
END:STANDARD
BEGIN:DAYLIGHT
TZOFFSETFROM:+0100
TZOFFSETTO:+0200
TZNAME:CEST
DTSTART:20260329T010000
END:DAYLIGHT
BEGIN:STANDARD
TZOFFSETFROM:+0200
TZOFFSETTO:+0100
TZNAME:CET
DTSTART:20261025T010000
END:STANDARD
END:VTIMEZONE
BEGIN:VEVENT
DTSTART;TZID=Europe/Berlin:20250801T190000
DTEND;TZID=Europe/Berlin:20250801T210000
DTSTAMP:20260421T122941
CREATED:20250111T140402Z
LAST-MODIFIED:20250111T140402Z
UID:4010-1754074800-1754082000@www.schauerheim.de
SUMMARY:Übung - FFW
DESCRIPTION:
URL:https://www.schauerheim.de/event/uebung-ffw-30/
LOCATION:Feuerwehrhaus
CATEGORIES:Feuerwehr
ATTACH;FMTTYPE=image/png:https://www.schauerheim.de/wp-content/uploads/2022/03/LogoFeuerwehrKalender_neu.png
END:VEVENT
BEGIN:VEVENT
DTSTART;VALUE=DATE:20250802
DTEND;VALUE=DATE:20250803
DTSTAMP:20260421T122941
CREATED:20250128T215929Z
LAST-MODIFIED:20250128T215929Z
UID:4058-1754092800-1754179199@www.schauerheim.de
SUMMARY:Sommerfest - MV
DESCRIPTION:Konkrete Uhrzeit steht noch nicht fest. Weitere Details folgen.
URL:https://www.schauerheim.de/event/sommerfest-mv-3/
LOCATION:Gemeindezentrum
CATEGORIES:Militärverein
ATTACH;FMTTYPE=image/png:https://www.schauerheim.de/wp-content/uploads/2022/03/LogoMilitaervereinKalender.png
END:VEVENT
BEGIN:VEVENT
DTSTART;TZID=Europe/Berlin:20250809T103000
DTEND;TZID=Europe/Berlin:20250809T160000
DTSTAMP:20260421T122941
CREATED:20250506T201303Z
LAST-MODIFIED:20250805T210348Z
UID:4314-1754735400-1754755200@www.schauerheim.de
SUMMARY:Saufturnier - Ortsburschen
DESCRIPTION:
URL:https://www.schauerheim.de/event/saufturnier-ortsburschen/
LOCATION:Sportplatz
CATEGORIES:Ortsburschen
ATTACH;FMTTYPE=image/jpeg:https://www.schauerheim.de/wp-content/uploads/2025/05/20250809_Saufturnier.jpg
END:VEVENT
BEGIN:VEVENT
DTSTART;TZID=Europe/Berlin:20250812T183000
DTEND;TZID=Europe/Berlin:20250812T210000
DTSTAMP:20260421T122941
CREATED:20250803T133432Z
LAST-MODIFIED:20250803T135012Z
UID:4419-1755023400-1755032400@www.schauerheim.de
SUMMARY:Frage / Antwortrunde Nahwärmenetz
DESCRIPTION:
URL:https://www.schauerheim.de/event/frage-antwortrunde-nahwaermenetz/
LOCATION:Gemeindezentrum
CATEGORIES:Sonstige
ATTACH;FMTTYPE=image/png:https://www.schauerheim.de/wp-content/uploads/2025/05/LogoNahwaermenetz@Schauerheim.png
END:VEVENT
BEGIN:VEVENT
DTSTART;TZID=Europe/Berlin:20250822T190000
DTEND;TZID=Europe/Berlin:20250822T210000
DTSTAMP:20260421T122941
CREATED:20250111T140402Z
LAST-MODIFIED:20250111T140402Z
UID:4011-1755889200-1755896400@www.schauerheim.de
SUMMARY:Übung - FFW
DESCRIPTION:
URL:https://www.schauerheim.de/event/uebung-ffw-31/
LOCATION:Feuerwehrhaus
CATEGORIES:Feuerwehr
ATTACH;FMTTYPE=image/png:https://www.schauerheim.de/wp-content/uploads/2022/03/LogoFeuerwehrKalender_neu.png
END:VEVENT
END:VCALENDAR