BEGIN:VCALENDAR
VERSION:2.0
PRODID:-//Schauerheim.de - ECPv6.15.20//NONSGML v1.0//EN
CALSCALE:GREGORIAN
METHOD:PUBLISH
X-ORIGINAL-URL:https://www.schauerheim.de
X-WR-CALDESC:Veranstaltungen für Schauerheim.de
REFRESH-INTERVAL;VALUE=DURATION:PT1H
X-Robots-Tag:noindex
X-PUBLISHED-TTL:PT1H
BEGIN:VTIMEZONE
TZID:Europe/Berlin
BEGIN:DAYLIGHT
TZOFFSETFROM:+0100
TZOFFSETTO:+0200
TZNAME:CEST
DTSTART:20240331T010000
END:DAYLIGHT
BEGIN:STANDARD
TZOFFSETFROM:+0200
TZOFFSETTO:+0100
TZNAME:CET
DTSTART:20241027T010000
END:STANDARD
BEGIN:DAYLIGHT
TZOFFSETFROM:+0100
TZOFFSETTO:+0200
TZNAME:CEST
DTSTART:20250330T010000
END:DAYLIGHT
BEGIN:STANDARD
TZOFFSETFROM:+0200
TZOFFSETTO:+0100
TZNAME:CET
DTSTART:20251026T010000
END:STANDARD
BEGIN:DAYLIGHT
TZOFFSETFROM:+0100
TZOFFSETTO:+0200
TZNAME:CEST
DTSTART:20260329T010000
END:DAYLIGHT
BEGIN:STANDARD
TZOFFSETFROM:+0200
TZOFFSETTO:+0100
TZNAME:CET
DTSTART:20261025T010000
END:STANDARD
END:VTIMEZONE
BEGIN:VEVENT
DTSTART;VALUE=DATE:20250904
DTEND;VALUE=DATE:20250909
DTSTAMP:20260421T124050
CREATED:20250128T215930Z
LAST-MODIFIED:20250808T213415Z
UID:4059-1756944000-1757375999@www.schauerheim.de
SUMMARY:Kirchweih Birkenfeld
DESCRIPTION: 
URL:https://www.schauerheim.de/event/kirchweih-birkenfeld-3/
CATEGORIES:Sonstige
ATTACH;FMTTYPE=image/jpeg:https://www.schauerheim.de/wp-content/uploads/2023/02/Klosterkirche.jpg
END:VEVENT
BEGIN:VEVENT
DTSTART;TZID=Europe/Berlin:20250912T190000
DTEND;TZID=Europe/Berlin:20250912T210000
DTSTAMP:20260421T124050
CREATED:20250111T140403Z
LAST-MODIFIED:20250111T140403Z
UID:4012-1757703600-1757710800@www.schauerheim.de
SUMMARY:Übung - FFW
DESCRIPTION:
URL:https://www.schauerheim.de/event/uebung-ffw-32/
LOCATION:Feuerwehrhaus
CATEGORIES:Feuerwehr
ATTACH;FMTTYPE=image/png:https://www.schauerheim.de/wp-content/uploads/2022/03/LogoFeuerwehrKalender_neu.png
END:VEVENT
BEGIN:VEVENT
DTSTART;TZID=Europe/Berlin:20250916T183000
DTEND;TZID=Europe/Berlin:20250916T203000
DTSTAMP:20260421T124051
CREATED:20250808T213918Z
LAST-MODIFIED:20250915T203728Z
UID:4445-1758047400-1758054600@www.schauerheim.de
SUMMARY:entfällt: Lesung Dr. Mück in der Unterkirche Birkenfeld
DESCRIPTION:Entfällt krankheitsbedingt: Dr. Wolfgang Mück liest aus seinem Buch: „Klosterlandschaft Birkenfeld“ – Auf den Spuren der Zisterzienser im ehemaligen Frauenkloster am Mittellauf der Aisch“.
URL:https://www.schauerheim.de/event/lesung-dr-mueck-in-der-unterkirche-birkenfeld/
LOCATION:Klosterkirche Birkenfeld
CATEGORIES:Sonstige
ATTACH;FMTTYPE=image/jpeg:https://www.schauerheim.de/wp-content/uploads/2023/02/Klosterkirche.jpg
END:VEVENT
BEGIN:VEVENT
DTSTART;VALUE=DATE:20250918
DTEND;VALUE=DATE:20250923
DTSTAMP:20260421T124051
CREATED:20250828T212828Z
LAST-MODIFIED:20250828T213050Z
UID:4460-1758153600-1758585599@www.schauerheim.de
SUMMARY:Kirchweih Unternesselbach
DESCRIPTION:
URL:https://www.schauerheim.de/event/kirchweih-unternesselbach-3/
CATEGORIES:Sonstige
ATTACH;FMTTYPE=image/jpeg:https://www.schauerheim.de/wp-content/uploads/2025/08/20250921_FlyerKerwaUnternesselbach_1.jpg
END:VEVENT
BEGIN:VEVENT
DTSTART;TZID=Europe/Berlin:20250920T140000
DTEND;TZID=Europe/Berlin:20250920T170000
DTSTAMP:20260421T124051
CREATED:20250128T220017Z
LAST-MODIFIED:20250915T203907Z
UID:4060-1758376800-1758387600@www.schauerheim.de
SUMMARY:Kinderwanderung - GBV
DESCRIPTION:
URL:https://www.schauerheim.de/event/kinderwanderung-gbv/
CATEGORIES:Gartenbauverein
ATTACH;FMTTYPE=image/png:https://www.schauerheim.de/wp-content/uploads/2022/03/GBVLogoKalender.png
END:VEVENT
BEGIN:VEVENT
DTSTART;TZID=Europe/Berlin:20250921T180000
DTEND;TZID=Europe/Berlin:20250921T184500
DTSTAMP:20260421T124051
CREATED:20250128T220018Z
LAST-MODIFIED:20250128T220018Z
UID:4061-1758477600-1758480300@www.schauerheim.de
SUMMARY:Abendgottesdienst - Ev. Kirchengemeinde
DESCRIPTION:Weitere Details folgen.
URL:https://www.schauerheim.de/event/abendgottesdienst-ev-kirchengemeinde-3/
LOCATION:St. Katharinenkirche Schauerheim
CATEGORIES:Kirche
ATTACH;FMTTYPE=image/jpeg:https://www.schauerheim.de/wp-content/uploads/2022/02/StKatharinenkircheSchauerheim.jpg
END:VEVENT
BEGIN:VEVENT
DTSTART;VALUE=DATE:20250925
DTEND;VALUE=DATE:20250930
DTSTAMP:20260421T124051
CREATED:20250911T204254Z
LAST-MODIFIED:20250911T204254Z
UID:4476-1758758400-1759190399@www.schauerheim.de
SUMMARY:Kirchweih Obernesselbach
DESCRIPTION:
URL:https://www.schauerheim.de/event/kirchweih-obernesselbach-3/
CATEGORIES:Sonstige
ATTACH;FMTTYPE=image/jpeg:https://www.schauerheim.de/wp-content/uploads/2025/09/2025_FlyerKerwaObernesselbach.jpg
END:VEVENT
BEGIN:VEVENT
DTSTART;TZID=Europe/Berlin:20250928T143000
DTEND;TZID=Europe/Berlin:20250928T170000
DTSTAMP:20260421T124051
CREATED:20250808T214122Z
LAST-MODIFIED:20250808T214205Z
UID:4447-1759069800-1759078800@www.schauerheim.de
SUMMARY:Feierliche Enthüllung der Figurenbeute "Zisterziensernonne" Birkenfeld
DESCRIPTION:Kaffee & Kuchen der Dorfgemeinschaft Birkenfeld (am Ortseingang\, am Blumenfeld)
URL:https://www.schauerheim.de/event/feierliche-enthuellung-der-figurenbeute-zisterziensernonne-birkenfeld/
LOCATION:Klosterkirche Birkenfeld
CATEGORIES:Sonstige
ATTACH;FMTTYPE=image/jpeg:https://www.schauerheim.de/wp-content/uploads/2023/02/Klosterkirche.jpg
END:VEVENT
END:VCALENDAR