BEGIN:VCALENDAR
VERSION:2.0
PRODID:-//Schauerheim.de - ECPv6.15.20//NONSGML v1.0//EN
CALSCALE:GREGORIAN
METHOD:PUBLISH
X-WR-CALNAME:Schauerheim.de
X-ORIGINAL-URL:https://www.schauerheim.de
X-WR-CALDESC:Veranstaltungen für Schauerheim.de
REFRESH-INTERVAL;VALUE=DURATION:PT1H
X-Robots-Tag:noindex
X-PUBLISHED-TTL:PT1H
BEGIN:VTIMEZONE
TZID:Europe/Berlin
BEGIN:DAYLIGHT
TZOFFSETFROM:+0100
TZOFFSETTO:+0200
TZNAME:CEST
DTSTART:20240331T010000
END:DAYLIGHT
BEGIN:STANDARD
TZOFFSETFROM:+0200
TZOFFSETTO:+0100
TZNAME:CET
DTSTART:20241027T010000
END:STANDARD
BEGIN:DAYLIGHT
TZOFFSETFROM:+0100
TZOFFSETTO:+0200
TZNAME:CEST
DTSTART:20250330T010000
END:DAYLIGHT
BEGIN:STANDARD
TZOFFSETFROM:+0200
TZOFFSETTO:+0100
TZNAME:CET
DTSTART:20251026T010000
END:STANDARD
BEGIN:DAYLIGHT
TZOFFSETFROM:+0100
TZOFFSETTO:+0200
TZNAME:CEST
DTSTART:20260329T010000
END:DAYLIGHT
BEGIN:STANDARD
TZOFFSETFROM:+0200
TZOFFSETTO:+0100
TZNAME:CET
DTSTART:20261025T010000
END:STANDARD
END:VTIMEZONE
BEGIN:VEVENT
DTSTART;VALUE=DATE:20251031
DTEND;VALUE=DATE:20251104
DTSTAMP:20260421T125204
CREATED:20251029T200213Z
LAST-MODIFIED:20251029T200213Z
UID:4512-1761868800-1762214399@www.schauerheim.de
SUMMARY:Kirchweih Diebach
DESCRIPTION:
URL:https://www.schauerheim.de/event/kirchweih-diebach/
CATEGORIES:Sonstige
ATTACH;FMTTYPE=image/jpeg:https://www.schauerheim.de/wp-content/uploads/2025/10/20251102_ProgrammKerwaDiebach.jpg
END:VEVENT
BEGIN:VEVENT
DTSTART;TZID=Europe/Berlin:20251106T190000
DTEND;TZID=Europe/Berlin:20251106T210000
DTSTAMP:20260421T125204
CREATED:20251101T164702Z
LAST-MODIFIED:20251101T164702Z
UID:4526-1762455600-1762462800@www.schauerheim.de
SUMMARY:Auszahlung Jagdpacht
DESCRIPTION:
URL:https://www.schauerheim.de/event/auszahlung-jagdpacht/
LOCATION:Gemeindezentrum Vereinszimmer
CATEGORIES:Sonstige
ATTACH;FMTTYPE=image/png:https://www.schauerheim.de/wp-content/uploads/2025/11/20251106_AuszahlungJagdpacht.png
END:VEVENT
BEGIN:VEVENT
DTSTART;TZID=Europe/Berlin:20251107T190000
DTEND;TZID=Europe/Berlin:20251107T210000
DTSTAMP:20260421T125204
CREATED:20250111T140416Z
LAST-MODIFIED:20250111T140416Z
UID:4014-1762542000-1762549200@www.schauerheim.de
SUMMARY:Übung - FFW
DESCRIPTION:
URL:https://www.schauerheim.de/event/uebung-ffw-33/
LOCATION:Feuerwehrhaus
CATEGORIES:Feuerwehr
ATTACH;FMTTYPE=image/png:https://www.schauerheim.de/wp-content/uploads/2022/03/LogoFeuerwehrKalender_neu.png
END:VEVENT
BEGIN:VEVENT
DTSTART;TZID=Europe/Berlin:20251114T200000
DTEND;TZID=Europe/Berlin:20251114T233000
DTSTAMP:20260421T125204
CREATED:20251101T164134Z
LAST-MODIFIED:20251101T164134Z
UID:4522-1763150400-1763163000@www.schauerheim.de
SUMMARY:FC Schauerheim präsentiert: BURIED!
DESCRIPTION:
URL:https://www.schauerheim.de/event/fc-schauerheim-praesentiert-buried/
LOCATION:Gemeindezentrum
CATEGORIES:FC Schauerheim
ATTACH;FMTTYPE=image/jpeg:https://www.schauerheim.de/wp-content/uploads/2025/11/20251104_Buried_FCS.jpg
END:VEVENT
BEGIN:VEVENT
DTSTART;TZID=Europe/Berlin:20251115T100000
DTEND;TZID=Europe/Berlin:20251115T110000
DTSTAMP:20260421T125204
CREATED:20251108T152835Z
LAST-MODIFIED:20251108T153414Z
UID:4533-1763200800-1763204400@www.schauerheim.de
SUMMARY:Überprüfung Feuerlöscher
DESCRIPTION:
URL:https://www.schauerheim.de/event/ueberpruefung-feuerloescher-2/
LOCATION:Firma Bauereiß
CATEGORIES:Sonstige
ATTACH;FMTTYPE=image/jpeg:https://www.schauerheim.de/wp-content/uploads/2025/11/20251115_PruefungFeuerloescher.jpg
END:VEVENT
BEGIN:VEVENT
DTSTART;VALUE=DATE:20251116
DTEND;VALUE=DATE:20251117
DTSTAMP:20260421T125204
CREATED:20250128T220032Z
LAST-MODIFIED:20250128T220032Z
UID:4065-1763251200-1763337599@www.schauerheim.de
SUMMARY:Volkstrauertag - MV
DESCRIPTION:Konkrete Uhrzeit steht noch nicht fest. Weitere Details folgen.
URL:https://www.schauerheim.de/event/volkstrauertag-mv-3/
CATEGORIES:Militärverein
ATTACH;FMTTYPE=image/png:https://www.schauerheim.de/wp-content/uploads/2022/03/LogoMilitaervereinKalender.png
END:VEVENT
BEGIN:VEVENT
DTSTART;TZID=Europe/Berlin:20251117T190000
DTEND;TZID=Europe/Berlin:20251117T210000
DTSTAMP:20260421T125204
CREATED:20251108T153314Z
LAST-MODIFIED:20251108T153314Z
UID:4536-1763406000-1763413200@www.schauerheim.de
SUMMARY:Information Betreibergesellschaft Nahwärmenetz
DESCRIPTION: 
URL:https://www.schauerheim.de/event/information-betreibergesellschaft-nahwaermenetz/
LOCATION:Gemeindezentrum
CATEGORIES:Ortssprecher
ATTACH;FMTTYPE=image/png:https://www.schauerheim.de/wp-content/uploads/2023/03/LogoNahwaermenetz.png
END:VEVENT
BEGIN:VEVENT
DTSTART;TZID=Europe/Berlin:20251119T190000
DTEND;TZID=Europe/Berlin:20251119T194500
DTSTAMP:20260421T125204
CREATED:20250128T220033Z
LAST-MODIFIED:20251117T215003Z
UID:4066-1763578800-1763581500@www.schauerheim.de
SUMMARY:Taize-Andacht - Ev. Kirchengemeinde
DESCRIPTION:
URL:https://www.schauerheim.de/event/taize-andacht-ev-kirchengemeinde-12/
LOCATION:Klosterkirche Birkenfeld
CATEGORIES:Kirche
ATTACH;FMTTYPE=image/jpeg:https://www.schauerheim.de/wp-content/uploads/2023/02/Klosterkirche.jpg
END:VEVENT
BEGIN:VEVENT
DTSTART;TZID=Europe/Berlin:20251125T190000
DTEND;TZID=Europe/Berlin:20251125T210000
DTSTAMP:20260421T125204
CREATED:20250128T220034Z
LAST-MODIFIED:20251118T215540Z
UID:4067-1764097200-1764104400@www.schauerheim.de
SUMMARY:Adventsbasteln - GBV
DESCRIPTION:
URL:https://www.schauerheim.de/event/adventsbasteln-gbv-3/
LOCATION:Gemeindezentrum Saal\, Deutschland
CATEGORIES:Gartenbauverein
ATTACH;FMTTYPE=image/png:https://www.schauerheim.de/wp-content/uploads/2022/03/GBVLogoKalender.png
END:VEVENT
BEGIN:VEVENT
DTSTART;TZID=Europe/Berlin:20251128T190000
DTEND;TZID=Europe/Berlin:20251128T210000
DTSTAMP:20260421T125204
CREATED:20250111T140417Z
LAST-MODIFIED:20250111T140417Z
UID:4015-1764356400-1764363600@www.schauerheim.de
SUMMARY:Übung - FFW
DESCRIPTION:
URL:https://www.schauerheim.de/event/uebung-ffw-34/
LOCATION:Feuerwehrhaus
CATEGORIES:Feuerwehr
ATTACH;FMTTYPE=image/png:https://www.schauerheim.de/wp-content/uploads/2022/03/LogoFeuerwehrKalender_neu.png
END:VEVENT
BEGIN:VEVENT
DTSTART;TZID=Europe/Berlin:20251129T143000
DTEND;TZID=Europe/Berlin:20251129T180000
DTSTAMP:20260421T125204
CREATED:20250128T220035Z
LAST-MODIFIED:20251126T221438Z
UID:4068-1764426600-1764439200@www.schauerheim.de
SUMMARY:Weihnachtsfeier - GBV
DESCRIPTION: 
URL:https://www.schauerheim.de/event/weihnachtsfeier-gbv-3/
LOCATION:Gemeindezentrum Saal\, Deutschland
CATEGORIES:Gartenbauverein
ATTACH;FMTTYPE=image/png:https://www.schauerheim.de/wp-content/uploads/2022/03/GBVLogoKalender.png
END:VEVENT
BEGIN:VEVENT
DTSTART;TZID=Europe/Berlin:20251130T160000
DTEND;TZID=Europe/Berlin:20251130T200000
DTSTAMP:20260421T125204
CREATED:20250128T220036Z
LAST-MODIFIED:20251104T212602Z
UID:4069-1764518400-1764532800@www.schauerheim.de
SUMMARY:Adventsmarkt - Ev. Kirchengemeinde
DESCRIPTION: 
URL:https://www.schauerheim.de/event/adventsmarkt-ev-kirchengemeinde/
LOCATION:Klosterkirche Birkenfeld
CATEGORIES:Kirche
ATTACH;FMTTYPE=image/jpeg:https://www.schauerheim.de/wp-content/uploads/2023/02/Klosterkirche.jpg
END:VEVENT
END:VCALENDAR