BEGIN:VCALENDAR
VERSION:2.0
PRODID:-//Schauerheim.de - ECPv6.15.20//NONSGML v1.0//EN
CALSCALE:GREGORIAN
METHOD:PUBLISH
X-ORIGINAL-URL:https://www.schauerheim.de
X-WR-CALDESC:Veranstaltungen für Schauerheim.de
REFRESH-INTERVAL;VALUE=DURATION:PT1H
X-Robots-Tag:noindex
X-PUBLISHED-TTL:PT1H
BEGIN:VTIMEZONE
TZID:Europe/Berlin
BEGIN:DAYLIGHT
TZOFFSETFROM:+0100
TZOFFSETTO:+0200
TZNAME:CEST
DTSTART:20240331T010000
END:DAYLIGHT
BEGIN:STANDARD
TZOFFSETFROM:+0200
TZOFFSETTO:+0100
TZNAME:CET
DTSTART:20241027T010000
END:STANDARD
BEGIN:DAYLIGHT
TZOFFSETFROM:+0100
TZOFFSETTO:+0200
TZNAME:CEST
DTSTART:20250330T010000
END:DAYLIGHT
BEGIN:STANDARD
TZOFFSETFROM:+0200
TZOFFSETTO:+0100
TZNAME:CET
DTSTART:20251026T010000
END:STANDARD
BEGIN:DAYLIGHT
TZOFFSETFROM:+0100
TZOFFSETTO:+0200
TZNAME:CEST
DTSTART:20260329T010000
END:DAYLIGHT
BEGIN:STANDARD
TZOFFSETFROM:+0200
TZOFFSETTO:+0100
TZNAME:CET
DTSTART:20261025T010000
END:STANDARD
END:VTIMEZONE
BEGIN:VEVENT
DTSTART;TZID=Europe/Berlin:20251203T190000
DTEND;TZID=Europe/Berlin:20251203T200000
DTSTAMP:20260421T124052
CREATED:20251101T163110Z
LAST-MODIFIED:20251118T212504Z
UID:4516-1764788400-1764792000@www.schauerheim.de
SUMMARY:Auf ein Wort - Bürgermeisterkandidat Alexander Müller
DESCRIPTION:Alle Veranstaltungen finden im Freien statt!
URL:https://www.schauerheim.de/event/auf-ein-wort-buergermeisterkandidat-alexander-mueller/
LOCATION:Gemeindezentrum
CATEGORIES:Sonstige
ATTACH;FMTTYPE=image/jpeg:https://www.schauerheim.de/wp-content/uploads/2025/11/20251204_AufEinWort_AlexMueller_1.jpg
END:VEVENT
BEGIN:VEVENT
DTSTART;TZID=Europe/Berlin:20251219T190000
DTEND;TZID=Europe/Berlin:20251219T194500
DTSTAMP:20260421T124052
CREATED:20250128T220200Z
LAST-MODIFIED:20250128T220200Z
UID:4070-1766170800-1766173500@www.schauerheim.de
SUMMARY:Taize-Andacht - Ev. Kirchengemeinde
DESCRIPTION:Weitere Details folgen.
URL:https://www.schauerheim.de/event/taize-andacht-ev-kirchengemeinde-13/
LOCATION:Klosterkirche Birkenfeld
CATEGORIES:Kirche
ATTACH;FMTTYPE=image/jpeg:https://www.schauerheim.de/wp-content/uploads/2023/02/Klosterkirche.jpg
END:VEVENT
BEGIN:VEVENT
DTSTART;TZID=Europe/Berlin:20251219T190000
DTEND;TZID=Europe/Berlin:20251219T210000
DTSTAMP:20260421T124052
CREATED:20250111T140417Z
LAST-MODIFIED:20250111T140417Z
UID:4016-1766170800-1766178000@www.schauerheim.de
SUMMARY:Übung - FFW
DESCRIPTION:
URL:https://www.schauerheim.de/event/uebung-ffw-35/
LOCATION:Feuerwehrhaus
CATEGORIES:Feuerwehr
ATTACH;FMTTYPE=image/png:https://www.schauerheim.de/wp-content/uploads/2022/03/LogoFeuerwehrKalender_neu.png
END:VEVENT
BEGIN:VEVENT
DTSTART;VALUE=DATE:20251220
DTEND;VALUE=DATE:20251221
DTSTAMP:20260421T124052
CREATED:20250128T220201Z
LAST-MODIFIED:20250128T220201Z
UID:4071-1766188800-1766275199@www.schauerheim.de
SUMMARY:Weihnachtsveranstaltung - MV
DESCRIPTION:Konkrete Uhrzeit steht noch nicht fest. Weitere Details folgen.
URL:https://www.schauerheim.de/event/weihnachtsveranstaltung-mv/
LOCATION:Gemeindezentrum
CATEGORIES:Militärverein
ATTACH;FMTTYPE=image/png:https://www.schauerheim.de/wp-content/uploads/2022/03/LogoMilitaervereinKalender.png
END:VEVENT
END:VCALENDAR