BEGIN:VCALENDAR
VERSION:2.0
PRODID:-//Schauerheim.de - ECPv6.15.20//NONSGML v1.0//EN
CALSCALE:GREGORIAN
METHOD:PUBLISH
X-ORIGINAL-URL:https://www.schauerheim.de
X-WR-CALDESC:Veranstaltungen für Schauerheim.de
REFRESH-INTERVAL;VALUE=DURATION:PT1H
X-Robots-Tag:noindex
X-PUBLISHED-TTL:PT1H
BEGIN:VTIMEZONE
TZID:Europe/Berlin
BEGIN:DAYLIGHT
TZOFFSETFROM:+0100
TZOFFSETTO:+0200
TZNAME:CEST
DTSTART:20250330T010000
END:DAYLIGHT
BEGIN:STANDARD
TZOFFSETFROM:+0200
TZOFFSETTO:+0100
TZNAME:CET
DTSTART:20251026T010000
END:STANDARD
BEGIN:DAYLIGHT
TZOFFSETFROM:+0100
TZOFFSETTO:+0200
TZNAME:CEST
DTSTART:20260329T010000
END:DAYLIGHT
BEGIN:STANDARD
TZOFFSETFROM:+0200
TZOFFSETTO:+0100
TZNAME:CET
DTSTART:20261025T010000
END:STANDARD
BEGIN:DAYLIGHT
TZOFFSETFROM:+0100
TZOFFSETTO:+0200
TZNAME:CEST
DTSTART:20270328T010000
END:DAYLIGHT
BEGIN:STANDARD
TZOFFSETFROM:+0200
TZOFFSETTO:+0100
TZNAME:CET
DTSTART:20271031T010000
END:STANDARD
END:VTIMEZONE
BEGIN:VEVENT
DTSTART;VALUE=DATE:20260906
DTEND;VALUE=DATE:20260907
DTSTAMP:20260423T164824
CREATED:20251217T214051Z
LAST-MODIFIED:20251217T214051Z
UID:4630-1788652800-1788739199@www.schauerheim.de
SUMMARY:Kirchweih Birkenfeld
DESCRIPTION:Weitere Details folgen.
URL:https://www.schauerheim.de/event/kirchweih-birkenfeld-4/
LOCATION:Klosterkirche Birkenfeld
CATEGORIES:Sonstige
ATTACH;FMTTYPE=image/jpeg:https://www.schauerheim.de/wp-content/uploads/2023/02/Klosterkirche.jpg
END:VEVENT
BEGIN:VEVENT
DTSTART;TZID=Europe/Berlin:20260916T190000
DTEND;TZID=Europe/Berlin:20260916T210000
DTSTAMP:20260423T164824
CREATED:20251220T124646Z
LAST-MODIFIED:20251220T124646Z
UID:4666-1789585200-1789592400@www.schauerheim.de
SUMMARY:Übung - FFW
DESCRIPTION:
URL:https://www.schauerheim.de/event/uebung-ffw-47/
LOCATION:Feuerwehrhaus
CATEGORIES:Feuerwehr
ATTACH;FMTTYPE=image/png:https://www.schauerheim.de/wp-content/uploads/2022/03/LogoFeuerwehrKalender_neu.png
END:VEVENT
BEGIN:VEVENT
DTSTART;VALUE=DATE:20260925
DTEND;VALUE=DATE:20260926
DTSTAMP:20260423T164824
CREATED:20251217T214053Z
LAST-MODIFIED:20251217T214053Z
UID:4631-1790294400-1790380799@www.schauerheim.de
SUMMARY:Kürbisprämierung - GBV
DESCRIPTION:Konkrete Uhrzeit steht noch nicht fest. Weitere Details folgen.
URL:https://www.schauerheim.de/event/kuerbispraemierung-gbv/
LOCATION:Gemeindezentrum
CATEGORIES:Gartenbauverein
ATTACH;FMTTYPE=image/png:https://www.schauerheim.de/wp-content/uploads/2022/03/GBVLogoKalender.png
END:VEVENT
BEGIN:VEVENT
DTSTART;TZID=Europe/Berlin:20260927T180000
DTEND;TZID=Europe/Berlin:20260927T184500
DTSTAMP:20260423T164824
CREATED:20251217T214054Z
LAST-MODIFIED:20251217T214054Z
UID:4632-1790532000-1790534700@www.schauerheim.de
SUMMARY:Abendgottesdienst - Ev. Kirchengemeinde
DESCRIPTION:Weitere Details folgen.
URL:https://www.schauerheim.de/event/abendgottesdienst-ev-kirchengemeinde-5/
LOCATION:St. Katharinenkirche Schauerheim
CATEGORIES:Kirche
ATTACH;FMTTYPE=image/jpeg:https://www.schauerheim.de/wp-content/uploads/2022/02/StKatharinenkircheSchauerheim.jpg
END:VEVENT
END:VCALENDAR